BEGIN:VCALENDAR
VERSION:2.0
PRODID:-//Minot AFB - ECPv6.15.20//NONSGML v1.0//EN
CALSCALE:GREGORIAN
METHOD:PUBLISH
X-WR-CALNAME:Minot AFB
X-ORIGINAL-URL:https://5thforcesupport.com
X-WR-CALDESC:Events for Minot AFB
REFRESH-INTERVAL;VALUE=DURATION:PT1H
X-Robots-Tag:noindex
X-PUBLISHED-TTL:PT1H
BEGIN:VTIMEZONE
TZID:UTC
BEGIN:STANDARD
TZOFFSETFROM:+0000
TZOFFSETTO:+0000
TZNAME:UTC
DTSTART:20250101T000000
END:STANDARD
END:VTIMEZONE
BEGIN:VEVENT
DTSTART;TZID=UTC:20260426T133000
DTEND;TZID=UTC:20260426T143000
DTSTAMP:20260424T164944
CREATED:20251205T152455Z
LAST-MODIFIED:20260416T160820Z
UID:10008847-1777210200-1777213800@5thforcesupport.com
SUMMARY:Sunday Escapes Book Club
DESCRIPTION:For more information call the Minot AFB Library at 723-3344
URL:https://5thforcesupport.com/event/sunday-escapes-book-club-2/2026-04-26/
LOCATION:Library\, 156 Missile Ave\, Minot AFB\, ND\, 58704\, United States
CATEGORIES:Fun,Library
ATTACH;FMTTYPE=image/jpeg:https://5thforcesupport.com/wp-content/uploads/2025/03/Library-Sunday-Escapes-Book-Club-scaled.jpg
GEO:48.41945534963;-101.32449916146
X-APPLE-STRUCTURED-LOCATION;VALUE=URI;X-ADDRESS=Library 156 Missile Ave Minot AFB ND 58704 United States;X-APPLE-RADIUS=500;X-TITLE=156 Missile Ave:geo:-101.32449916146,48.41945534963
END:VEVENT
BEGIN:VEVENT
DTSTART;TZID=UTC:20260531T133000
DTEND;TZID=UTC:20260531T143000
DTSTAMP:20260424T164944
CREATED:20251205T152455Z
LAST-MODIFIED:20260416T160820Z
UID:10009342-1780234200-1780237800@5thforcesupport.com
SUMMARY:Sunday Escapes Book Club
DESCRIPTION:For more information call the Minot AFB Library at 723-3344
URL:https://5thforcesupport.com/event/sunday-escapes-book-club-2/2026-05-31/
LOCATION:Library\, 156 Missile Ave\, Minot AFB\, ND\, 58704\, United States
CATEGORIES:Fun,Library
ATTACH;FMTTYPE=image/jpeg:https://5thforcesupport.com/wp-content/uploads/2025/03/Library-Sunday-Escapes-Book-Club-scaled.jpg
GEO:48.41945534963;-101.32449916146
X-APPLE-STRUCTURED-LOCATION;VALUE=URI;X-ADDRESS=Library 156 Missile Ave Minot AFB ND 58704 United States;X-APPLE-RADIUS=500;X-TITLE=156 Missile Ave:geo:-101.32449916146,48.41945534963
END:VEVENT
BEGIN:VEVENT
DTSTART;TZID=UTC:20260628T133000
DTEND;TZID=UTC:20260628T143000
DTSTAMP:20260424T164944
CREATED:20251205T152455Z
LAST-MODIFIED:20260416T160820Z
UID:10009423-1782653400-1782657000@5thforcesupport.com
SUMMARY:Sunday Escapes Book Club
DESCRIPTION:For more information call the Minot AFB Library at 723-3344
URL:https://5thforcesupport.com/event/sunday-escapes-book-club-2/2026-06-28/
LOCATION:Library\, 156 Missile Ave\, Minot AFB\, ND\, 58704\, United States
CATEGORIES:Fun,Library
ATTACH;FMTTYPE=image/jpeg:https://5thforcesupport.com/wp-content/uploads/2025/03/Library-Sunday-Escapes-Book-Club-scaled.jpg
GEO:48.41945534963;-101.32449916146
X-APPLE-STRUCTURED-LOCATION;VALUE=URI;X-ADDRESS=Library 156 Missile Ave Minot AFB ND 58704 United States;X-APPLE-RADIUS=500;X-TITLE=156 Missile Ave:geo:-101.32449916146,48.41945534963
END:VEVENT
END:VCALENDAR