BEGIN:VCALENDAR
VERSION:2.0
PRODID:-//Minot AFB - ECPv6.15.20//NONSGML v1.0//EN
CALSCALE:GREGORIAN
METHOD:PUBLISH
X-WR-CALNAME:Minot AFB
X-ORIGINAL-URL:https://5thforcesupport.com
X-WR-CALDESC:Events for Minot AFB
REFRESH-INTERVAL;VALUE=DURATION:PT1H
X-Robots-Tag:noindex
X-PUBLISHED-TTL:PT1H
BEGIN:VTIMEZONE
TZID:UTC
BEGIN:STANDARD
TZOFFSETFROM:+0000
TZOFFSETTO:+0000
TZNAME:UTC
DTSTART:20250101T000000
END:STANDARD
END:VTIMEZONE
BEGIN:VEVENT
DTSTART;TZID=UTC:20260506T120000
DTEND;TZID=UTC:20260506T130000
DTSTAMP:20260424T201635
CREATED:20251015T200130Z
LAST-MODIFIED:20260416T160739Z
UID:10009385-1778068800-1778072400@5thforcesupport.com
SUMMARY:Brown Bag Book Talk
DESCRIPTION:For more information\, call the Minot AFB Library at 723-3344
URL:https://5thforcesupport.com/event/brown-bag-book-talk-2-2/2026-05-06/
LOCATION:Library\, 156 Missile Ave\, Minot AFB\, ND\, 58704\, United States
CATEGORIES:Fun,Library
ATTACH;FMTTYPE=image/jpeg:https://5thforcesupport.com/wp-content/uploads/2025/10/07-Library-Programs-Jan-26.jpg
GEO:48.41945534963;-101.32449916146
X-APPLE-STRUCTURED-LOCATION;VALUE=URI;X-ADDRESS=Library 156 Missile Ave Minot AFB ND 58704 United States;X-APPLE-RADIUS=500;X-TITLE=156 Missile Ave:geo:-101.32449916146,48.41945534963
END:VEVENT
BEGIN:VEVENT
DTSTART;TZID=UTC:20260603T120000
DTEND;TZID=UTC:20260603T130000
DTSTAMP:20260424T201635
CREATED:20251015T200130Z
LAST-MODIFIED:20260416T160739Z
UID:10009422-1780488000-1780491600@5thforcesupport.com
SUMMARY:Brown Bag Book Talk
DESCRIPTION:For more information\, call the Minot AFB Library at 723-3344
URL:https://5thforcesupport.com/event/brown-bag-book-talk-2-2/2026-06-03/
LOCATION:Library\, 156 Missile Ave\, Minot AFB\, ND\, 58704\, United States
CATEGORIES:Fun,Library
ATTACH;FMTTYPE=image/jpeg:https://5thforcesupport.com/wp-content/uploads/2025/10/07-Library-Programs-Jan-26.jpg
GEO:48.41945534963;-101.32449916146
X-APPLE-STRUCTURED-LOCATION;VALUE=URI;X-ADDRESS=Library 156 Missile Ave Minot AFB ND 58704 United States;X-APPLE-RADIUS=500;X-TITLE=156 Missile Ave:geo:-101.32449916146,48.41945534963
END:VEVENT
END:VCALENDAR