BEGIN:VCALENDAR
VERSION:2.0
PRODID:-//Minot AFB - ECPv6.15.20//NONSGML v1.0//EN
CALSCALE:GREGORIAN
METHOD:PUBLISH
X-WR-CALNAME:Minot AFB
X-ORIGINAL-URL:https://5thforcesupport.com
X-WR-CALDESC:Events for Minot AFB
REFRESH-INTERVAL;VALUE=DURATION:PT1H
X-Robots-Tag:noindex
X-PUBLISHED-TTL:PT1H
BEGIN:VTIMEZONE
TZID:UTC
BEGIN:STANDARD
TZOFFSETFROM:+0000
TZOFFSETTO:+0000
TZNAME:UTC
DTSTART:20250101T000000
END:STANDARD
END:VTIMEZONE
BEGIN:VEVENT
DTSTART;TZID=UTC:20260505T180000
DTEND;TZID=UTC:20260505T193000
DTSTAMP:20260424T165604
CREATED:20251121T164744Z
LAST-MODIFIED:20260416T160935Z
UID:10009338-1778004000-1778009400@5thforcesupport.com
SUMMARY:Quiet Book Club
DESCRIPTION:Open to all ages! \n1st and 3rd Tuesday of each month. \nA book club with no assigned reading or required talking! \nJust bring a book (or pick out one of ours) and read in the company of other silent readers. \nTea will be available\, and discussion is allowed but not required after 7:00PM. \nFor details\, call 723-3344 or email mafblibrary@gmail.com
URL:https://5thforcesupport.com/event/quiet-book-club-3/2026-05-05/
LOCATION:Library\, 156 Missile Ave\, Minot AFB\, ND\, 58704\, United States
CATEGORIES:Fun,Library
ATTACH;FMTTYPE=image/jpeg:https://5thforcesupport.com/wp-content/uploads/2024/09/Library-Quiet-Book-Club-scaled.jpg
GEO:48.41945534963;-101.32449916146
X-APPLE-STRUCTURED-LOCATION;VALUE=URI;X-ADDRESS=Library 156 Missile Ave Minot AFB ND 58704 United States;X-APPLE-RADIUS=500;X-TITLE=156 Missile Ave:geo:-101.32449916146,48.41945534963
END:VEVENT
BEGIN:VEVENT
DTSTART;TZID=UTC:20260519T180000
DTEND;TZID=UTC:20260519T193000
DTSTAMP:20260424T165604
CREATED:20251121T164744Z
LAST-MODIFIED:20260416T160935Z
UID:10009339-1779213600-1779219000@5thforcesupport.com
SUMMARY:Quiet Book Club
DESCRIPTION:Open to all ages! \n1st and 3rd Tuesday of each month. \nA book club with no assigned reading or required talking! \nJust bring a book (or pick out one of ours) and read in the company of other silent readers. \nTea will be available\, and discussion is allowed but not required after 7:00PM. \nFor details\, call 723-3344 or email mafblibrary@gmail.com
URL:https://5thforcesupport.com/event/quiet-book-club-3/2026-05-19/
LOCATION:Library\, 156 Missile Ave\, Minot AFB\, ND\, 58704\, United States
CATEGORIES:Fun,Library
ATTACH;FMTTYPE=image/jpeg:https://5thforcesupport.com/wp-content/uploads/2024/09/Library-Quiet-Book-Club-scaled.jpg
GEO:48.41945534963;-101.32449916146
X-APPLE-STRUCTURED-LOCATION;VALUE=URI;X-ADDRESS=Library 156 Missile Ave Minot AFB ND 58704 United States;X-APPLE-RADIUS=500;X-TITLE=156 Missile Ave:geo:-101.32449916146,48.41945534963
END:VEVENT
BEGIN:VEVENT
DTSTART;TZID=UTC:20260602T180000
DTEND;TZID=UTC:20260602T193000
DTSTAMP:20260424T165604
CREATED:20251121T164744Z
LAST-MODIFIED:20260416T160935Z
UID:10009424-1780423200-1780428600@5thforcesupport.com
SUMMARY:Quiet Book Club
DESCRIPTION:Open to all ages! \n1st and 3rd Tuesday of each month. \nA book club with no assigned reading or required talking! \nJust bring a book (or pick out one of ours) and read in the company of other silent readers. \nTea will be available\, and discussion is allowed but not required after 7:00PM. \nFor details\, call 723-3344 or email mafblibrary@gmail.com
URL:https://5thforcesupport.com/event/quiet-book-club-3/2026-06-02/
LOCATION:Library\, 156 Missile Ave\, Minot AFB\, ND\, 58704\, United States
CATEGORIES:Fun,Library
ATTACH;FMTTYPE=image/jpeg:https://5thforcesupport.com/wp-content/uploads/2024/09/Library-Quiet-Book-Club-scaled.jpg
GEO:48.41945534963;-101.32449916146
X-APPLE-STRUCTURED-LOCATION;VALUE=URI;X-ADDRESS=Library 156 Missile Ave Minot AFB ND 58704 United States;X-APPLE-RADIUS=500;X-TITLE=156 Missile Ave:geo:-101.32449916146,48.41945534963
END:VEVENT
BEGIN:VEVENT
DTSTART;TZID=UTC:20260616T180000
DTEND;TZID=UTC:20260616T193000
DTSTAMP:20260424T165604
CREATED:20251121T164744Z
LAST-MODIFIED:20260416T160935Z
UID:10009425-1781632800-1781638200@5thforcesupport.com
SUMMARY:Quiet Book Club
DESCRIPTION:Open to all ages! \n1st and 3rd Tuesday of each month. \nA book club with no assigned reading or required talking! \nJust bring a book (or pick out one of ours) and read in the company of other silent readers. \nTea will be available\, and discussion is allowed but not required after 7:00PM. \nFor details\, call 723-3344 or email mafblibrary@gmail.com
URL:https://5thforcesupport.com/event/quiet-book-club-3/2026-06-16/
LOCATION:Library\, 156 Missile Ave\, Minot AFB\, ND\, 58704\, United States
CATEGORIES:Fun,Library
ATTACH;FMTTYPE=image/jpeg:https://5thforcesupport.com/wp-content/uploads/2024/09/Library-Quiet-Book-Club-scaled.jpg
GEO:48.41945534963;-101.32449916146
X-APPLE-STRUCTURED-LOCATION;VALUE=URI;X-ADDRESS=Library 156 Missile Ave Minot AFB ND 58704 United States;X-APPLE-RADIUS=500;X-TITLE=156 Missile Ave:geo:-101.32449916146,48.41945534963
END:VEVENT
END:VCALENDAR