BEGIN:VCALENDAR
VERSION:2.0
PRODID:-//Minot AFB - ECPv6.15.20//NONSGML v1.0//EN
CALSCALE:GREGORIAN
METHOD:PUBLISH
X-WR-CALNAME:Minot AFB
X-ORIGINAL-URL:https://5thforcesupport.com
X-WR-CALDESC:Events for Minot AFB
REFRESH-INTERVAL;VALUE=DURATION:PT1H
X-Robots-Tag:noindex
X-PUBLISHED-TTL:PT1H
BEGIN:VTIMEZONE
TZID:UTC
BEGIN:STANDARD
TZOFFSETFROM:+0000
TZOFFSETTO:+0000
TZNAME:UTC
DTSTART:20250101T000000
END:STANDARD
END:VTIMEZONE
BEGIN:VEVENT
DTSTART;TZID=UTC:20260506T103000
DTEND;TZID=UTC:20260506T113000
DTSTAMP:20260424T164952
CREATED:20251015T200258Z
LAST-MODIFIED:20260417T153111Z
UID:10009329-1778063400-1778067000@5thforcesupport.com
SUMMARY:Storytime
DESCRIPTION:Join us in-person or online! \nTo access the Storytime Videos:\n1. Apply for a Minot AFB Library card\n2. Request to join the Minot AFB Storytime Club on Facebook at facebook.com/groups/649758152482141 \nFor more information\, call the Minot AFB Library at 723-3344.
URL:https://5thforcesupport.com/event/storytime-3-2/2026-05-06/
LOCATION:Library\, 156 Missile Ave\, Minot AFB\, ND\, 58704\, United States
CATEGORIES:Fun,Library
ATTACH;FMTTYPE=image/jpeg:https://5thforcesupport.com/wp-content/uploads/2024/07/Library-Storytime.jpg
GEO:48.41945534963;-101.32449916146
X-APPLE-STRUCTURED-LOCATION;VALUE=URI;X-ADDRESS=Library 156 Missile Ave Minot AFB ND 58704 United States;X-APPLE-RADIUS=500;X-TITLE=156 Missile Ave:geo:-101.32449916146,48.41945534963
END:VEVENT
BEGIN:VEVENT
DTSTART;TZID=UTC:20260513T103000
DTEND;TZID=UTC:20260513T113000
DTSTAMP:20260424T164952
CREATED:20251015T200258Z
LAST-MODIFIED:20260417T153111Z
UID:10009330-1778668200-1778671800@5thforcesupport.com
SUMMARY:Storytime
DESCRIPTION:Join us in-person or online! \nTo access the Storytime Videos:\n1. Apply for a Minot AFB Library card\n2. Request to join the Minot AFB Storytime Club on Facebook at facebook.com/groups/649758152482141 \nFor more information\, call the Minot AFB Library at 723-3344.
URL:https://5thforcesupport.com/event/storytime-3-2/2026-05-13/
LOCATION:Library\, 156 Missile Ave\, Minot AFB\, ND\, 58704\, United States
CATEGORIES:Fun,Library
ATTACH;FMTTYPE=image/jpeg:https://5thforcesupport.com/wp-content/uploads/2024/07/Library-Storytime.jpg
GEO:48.41945534963;-101.32449916146
X-APPLE-STRUCTURED-LOCATION;VALUE=URI;X-ADDRESS=Library 156 Missile Ave Minot AFB ND 58704 United States;X-APPLE-RADIUS=500;X-TITLE=156 Missile Ave:geo:-101.32449916146,48.41945534963
END:VEVENT
BEGIN:VEVENT
DTSTART;TZID=UTC:20260520T103000
DTEND;TZID=UTC:20260520T113000
DTSTAMP:20260424T164952
CREATED:20251015T200258Z
LAST-MODIFIED:20260417T153111Z
UID:10009331-1779273000-1779276600@5thforcesupport.com
SUMMARY:Storytime
DESCRIPTION:Join us in-person or online! \nTo access the Storytime Videos:\n1. Apply for a Minot AFB Library card\n2. Request to join the Minot AFB Storytime Club on Facebook at facebook.com/groups/649758152482141 \nFor more information\, call the Minot AFB Library at 723-3344.
URL:https://5thforcesupport.com/event/storytime-3-2/2026-05-20/
LOCATION:Library\, 156 Missile Ave\, Minot AFB\, ND\, 58704\, United States
CATEGORIES:Fun,Library
ATTACH;FMTTYPE=image/jpeg:https://5thforcesupport.com/wp-content/uploads/2024/07/Library-Storytime.jpg
GEO:48.41945534963;-101.32449916146
X-APPLE-STRUCTURED-LOCATION;VALUE=URI;X-ADDRESS=Library 156 Missile Ave Minot AFB ND 58704 United States;X-APPLE-RADIUS=500;X-TITLE=156 Missile Ave:geo:-101.32449916146,48.41945534963
END:VEVENT
BEGIN:VEVENT
DTSTART;TZID=UTC:20260527T103000
DTEND;TZID=UTC:20260527T113000
DTSTAMP:20260424T164952
CREATED:20251015T200258Z
LAST-MODIFIED:20260417T153111Z
UID:10009332-1779877800-1779881400@5thforcesupport.com
SUMMARY:Storytime
DESCRIPTION:Join us in-person or online! \nTo access the Storytime Videos:\n1. Apply for a Minot AFB Library card\n2. Request to join the Minot AFB Storytime Club on Facebook at facebook.com/groups/649758152482141 \nFor more information\, call the Minot AFB Library at 723-3344.
URL:https://5thforcesupport.com/event/storytime-3-2/2026-05-27/
LOCATION:Library\, 156 Missile Ave\, Minot AFB\, ND\, 58704\, United States
CATEGORIES:Fun,Library
ATTACH;FMTTYPE=image/jpeg:https://5thforcesupport.com/wp-content/uploads/2024/07/Library-Storytime.jpg
GEO:48.41945534963;-101.32449916146
X-APPLE-STRUCTURED-LOCATION;VALUE=URI;X-ADDRESS=Library 156 Missile Ave Minot AFB ND 58704 United States;X-APPLE-RADIUS=500;X-TITLE=156 Missile Ave:geo:-101.32449916146,48.41945534963
END:VEVENT
BEGIN:VEVENT
DTSTART;TZID=UTC:20260603T103000
DTEND;TZID=UTC:20260603T113000
DTSTAMP:20260424T164952
CREATED:20251015T200258Z
LAST-MODIFIED:20260417T153111Z
UID:10009429-1780482600-1780486200@5thforcesupport.com
SUMMARY:Storytime
DESCRIPTION:Join us in-person or online! \nTo access the Storytime Videos:\n1. Apply for a Minot AFB Library card\n2. Request to join the Minot AFB Storytime Club on Facebook at facebook.com/groups/649758152482141 \nFor more information\, call the Minot AFB Library at 723-3344.
URL:https://5thforcesupport.com/event/storytime-3-2/2026-06-03/
LOCATION:Library\, 156 Missile Ave\, Minot AFB\, ND\, 58704\, United States
CATEGORIES:Fun,Library
ATTACH;FMTTYPE=image/jpeg:https://5thforcesupport.com/wp-content/uploads/2024/07/Library-Storytime.jpg
GEO:48.41945534963;-101.32449916146
X-APPLE-STRUCTURED-LOCATION;VALUE=URI;X-ADDRESS=Library 156 Missile Ave Minot AFB ND 58704 United States;X-APPLE-RADIUS=500;X-TITLE=156 Missile Ave:geo:-101.32449916146,48.41945534963
END:VEVENT
BEGIN:VEVENT
DTSTART;TZID=UTC:20260610T103000
DTEND;TZID=UTC:20260610T113000
DTSTAMP:20260424T164952
CREATED:20251015T200258Z
LAST-MODIFIED:20260417T153111Z
UID:10009430-1781087400-1781091000@5thforcesupport.com
SUMMARY:Storytime
DESCRIPTION:Join us in-person or online! \nTo access the Storytime Videos:\n1. Apply for a Minot AFB Library card\n2. Request to join the Minot AFB Storytime Club on Facebook at facebook.com/groups/649758152482141 \nFor more information\, call the Minot AFB Library at 723-3344.
URL:https://5thforcesupport.com/event/storytime-3-2/2026-06-10/
LOCATION:Library\, 156 Missile Ave\, Minot AFB\, ND\, 58704\, United States
CATEGORIES:Fun,Library
ATTACH;FMTTYPE=image/jpeg:https://5thforcesupport.com/wp-content/uploads/2024/07/Library-Storytime.jpg
GEO:48.41945534963;-101.32449916146
X-APPLE-STRUCTURED-LOCATION;VALUE=URI;X-ADDRESS=Library 156 Missile Ave Minot AFB ND 58704 United States;X-APPLE-RADIUS=500;X-TITLE=156 Missile Ave:geo:-101.32449916146,48.41945534963
END:VEVENT
BEGIN:VEVENT
DTSTART;TZID=UTC:20260617T103000
DTEND;TZID=UTC:20260617T113000
DTSTAMP:20260424T164952
CREATED:20251015T200258Z
LAST-MODIFIED:20260417T153111Z
UID:10009431-1781692200-1781695800@5thforcesupport.com
SUMMARY:Storytime
DESCRIPTION:Join us in-person or online! \nTo access the Storytime Videos:\n1. Apply for a Minot AFB Library card\n2. Request to join the Minot AFB Storytime Club on Facebook at facebook.com/groups/649758152482141 \nFor more information\, call the Minot AFB Library at 723-3344.
URL:https://5thforcesupport.com/event/storytime-3-2/2026-06-17/
LOCATION:Library\, 156 Missile Ave\, Minot AFB\, ND\, 58704\, United States
CATEGORIES:Fun,Library
ATTACH;FMTTYPE=image/jpeg:https://5thforcesupport.com/wp-content/uploads/2024/07/Library-Storytime.jpg
GEO:48.41945534963;-101.32449916146
X-APPLE-STRUCTURED-LOCATION;VALUE=URI;X-ADDRESS=Library 156 Missile Ave Minot AFB ND 58704 United States;X-APPLE-RADIUS=500;X-TITLE=156 Missile Ave:geo:-101.32449916146,48.41945534963
END:VEVENT
BEGIN:VEVENT
DTSTART;TZID=UTC:20260624T103000
DTEND;TZID=UTC:20260624T113000
DTSTAMP:20260424T164952
CREATED:20251015T200258Z
LAST-MODIFIED:20260417T153111Z
UID:10009432-1782297000-1782300600@5thforcesupport.com
SUMMARY:Storytime
DESCRIPTION:Join us in-person or online! \nTo access the Storytime Videos:\n1. Apply for a Minot AFB Library card\n2. Request to join the Minot AFB Storytime Club on Facebook at facebook.com/groups/649758152482141 \nFor more information\, call the Minot AFB Library at 723-3344.
URL:https://5thforcesupport.com/event/storytime-3-2/2026-06-24/
LOCATION:Library\, 156 Missile Ave\, Minot AFB\, ND\, 58704\, United States
CATEGORIES:Fun,Library
ATTACH;FMTTYPE=image/jpeg:https://5thforcesupport.com/wp-content/uploads/2024/07/Library-Storytime.jpg
GEO:48.41945534963;-101.32449916146
X-APPLE-STRUCTURED-LOCATION;VALUE=URI;X-ADDRESS=Library 156 Missile Ave Minot AFB ND 58704 United States;X-APPLE-RADIUS=500;X-TITLE=156 Missile Ave:geo:-101.32449916146,48.41945534963
END:VEVENT
END:VCALENDAR