BEGIN:VCALENDAR
VERSION:2.0
PRODID:-//Minot AFB - ECPv6.15.20//NONSGML v1.0//EN
CALSCALE:GREGORIAN
METHOD:PUBLISH
X-WR-CALNAME:Minot AFB
X-ORIGINAL-URL:https://5thforcesupport.com
X-WR-CALDESC:Events for Minot AFB
REFRESH-INTERVAL;VALUE=DURATION:PT1H
X-Robots-Tag:noindex
X-PUBLISHED-TTL:PT1H
BEGIN:VTIMEZONE
TZID:UTC
BEGIN:STANDARD
TZOFFSETFROM:+0000
TZOFFSETTO:+0000
TZNAME:UTC
DTSTART:20250101T000000
END:STANDARD
END:VTIMEZONE
BEGIN:VEVENT
DTSTART;TZID=UTC:20260428T100000
DTEND;TZID=UTC:20260428T193000
DTSTAMP:20260424T165008
CREATED:20251024T204926Z
LAST-MODIFIED:20260416T161730Z
UID:10008858-1777370400-1777404600@5thforcesupport.com
SUMMARY:Game Day
DESCRIPTION:For more information\, call the Minot AFB Library at 723-3344.
URL:https://5thforcesupport.com/event/game-day-3-2/2026-04-28/
LOCATION:Library\, 156 Missile Ave\, Minot AFB\, ND\, 58704\, United States
CATEGORIES:Fun,Library
ATTACH;FMTTYPE=image/jpeg:https://5thforcesupport.com/wp-content/uploads/2024/07/Library-Game-Day.jpg
GEO:48.41945534963;-101.32449916146
X-APPLE-STRUCTURED-LOCATION;VALUE=URI;X-ADDRESS=Library 156 Missile Ave Minot AFB ND 58704 United States;X-APPLE-RADIUS=500;X-TITLE=156 Missile Ave:geo:-101.32449916146,48.41945534963
END:VEVENT
BEGIN:VEVENT
DTSTART;TZID=UTC:20260505T100000
DTEND;TZID=UTC:20260505T193000
DTSTAMP:20260424T165008
CREATED:20251024T204926Z
LAST-MODIFIED:20260416T161730Z
UID:10009333-1777975200-1778009400@5thforcesupport.com
SUMMARY:Game Day
DESCRIPTION:For more information\, call the Minot AFB Library at 723-3344.
URL:https://5thforcesupport.com/event/game-day-3-2/2026-05-05/
LOCATION:Library\, 156 Missile Ave\, Minot AFB\, ND\, 58704\, United States
CATEGORIES:Fun,Library
ATTACH;FMTTYPE=image/jpeg:https://5thforcesupport.com/wp-content/uploads/2024/07/Library-Game-Day.jpg
GEO:48.41945534963;-101.32449916146
X-APPLE-STRUCTURED-LOCATION;VALUE=URI;X-ADDRESS=Library 156 Missile Ave Minot AFB ND 58704 United States;X-APPLE-RADIUS=500;X-TITLE=156 Missile Ave:geo:-101.32449916146,48.41945534963
END:VEVENT
BEGIN:VEVENT
DTSTART;TZID=UTC:20260512T100000
DTEND;TZID=UTC:20260512T193000
DTSTAMP:20260424T165008
CREATED:20251024T204926Z
LAST-MODIFIED:20260416T161730Z
UID:10009334-1778580000-1778614200@5thforcesupport.com
SUMMARY:Game Day
DESCRIPTION:For more information\, call the Minot AFB Library at 723-3344.
URL:https://5thforcesupport.com/event/game-day-3-2/2026-05-12/
LOCATION:Library\, 156 Missile Ave\, Minot AFB\, ND\, 58704\, United States
CATEGORIES:Fun,Library
ATTACH;FMTTYPE=image/jpeg:https://5thforcesupport.com/wp-content/uploads/2024/07/Library-Game-Day.jpg
GEO:48.41945534963;-101.32449916146
X-APPLE-STRUCTURED-LOCATION;VALUE=URI;X-ADDRESS=Library 156 Missile Ave Minot AFB ND 58704 United States;X-APPLE-RADIUS=500;X-TITLE=156 Missile Ave:geo:-101.32449916146,48.41945534963
END:VEVENT
BEGIN:VEVENT
DTSTART;TZID=UTC:20260519T100000
DTEND;TZID=UTC:20260519T193000
DTSTAMP:20260424T165008
CREATED:20251024T204926Z
LAST-MODIFIED:20260416T161730Z
UID:10009335-1779184800-1779219000@5thforcesupport.com
SUMMARY:Game Day
DESCRIPTION:For more information\, call the Minot AFB Library at 723-3344.
URL:https://5thforcesupport.com/event/game-day-3-2/2026-05-19/
LOCATION:Library\, 156 Missile Ave\, Minot AFB\, ND\, 58704\, United States
CATEGORIES:Fun,Library
ATTACH;FMTTYPE=image/jpeg:https://5thforcesupport.com/wp-content/uploads/2024/07/Library-Game-Day.jpg
GEO:48.41945534963;-101.32449916146
X-APPLE-STRUCTURED-LOCATION;VALUE=URI;X-ADDRESS=Library 156 Missile Ave Minot AFB ND 58704 United States;X-APPLE-RADIUS=500;X-TITLE=156 Missile Ave:geo:-101.32449916146,48.41945534963
END:VEVENT
BEGIN:VEVENT
DTSTART;TZID=UTC:20260526T100000
DTEND;TZID=UTC:20260526T193000
DTSTAMP:20260424T165008
CREATED:20251024T204926Z
LAST-MODIFIED:20260416T161730Z
UID:10009336-1779789600-1779823800@5thforcesupport.com
SUMMARY:Game Day
DESCRIPTION:For more information\, call the Minot AFB Library at 723-3344.
URL:https://5thforcesupport.com/event/game-day-3-2/2026-05-26/
LOCATION:Library\, 156 Missile Ave\, Minot AFB\, ND\, 58704\, United States
CATEGORIES:Fun,Library
ATTACH;FMTTYPE=image/jpeg:https://5thforcesupport.com/wp-content/uploads/2024/07/Library-Game-Day.jpg
GEO:48.41945534963;-101.32449916146
X-APPLE-STRUCTURED-LOCATION;VALUE=URI;X-ADDRESS=Library 156 Missile Ave Minot AFB ND 58704 United States;X-APPLE-RADIUS=500;X-TITLE=156 Missile Ave:geo:-101.32449916146,48.41945534963
END:VEVENT
BEGIN:VEVENT
DTSTART;TZID=UTC:20260602T100000
DTEND;TZID=UTC:20260602T193000
DTSTAMP:20260424T165008
CREATED:20251024T204926Z
LAST-MODIFIED:20260416T161730Z
UID:10009433-1780394400-1780428600@5thforcesupport.com
SUMMARY:Game Day
DESCRIPTION:For more information\, call the Minot AFB Library at 723-3344.
URL:https://5thforcesupport.com/event/game-day-3-2/2026-06-02/
LOCATION:Library\, 156 Missile Ave\, Minot AFB\, ND\, 58704\, United States
CATEGORIES:Fun,Library
ATTACH;FMTTYPE=image/jpeg:https://5thforcesupport.com/wp-content/uploads/2024/07/Library-Game-Day.jpg
GEO:48.41945534963;-101.32449916146
X-APPLE-STRUCTURED-LOCATION;VALUE=URI;X-ADDRESS=Library 156 Missile Ave Minot AFB ND 58704 United States;X-APPLE-RADIUS=500;X-TITLE=156 Missile Ave:geo:-101.32449916146,48.41945534963
END:VEVENT
BEGIN:VEVENT
DTSTART;TZID=UTC:20260609T100000
DTEND;TZID=UTC:20260609T193000
DTSTAMP:20260424T165008
CREATED:20251024T204926Z
LAST-MODIFIED:20260416T161730Z
UID:10009434-1780999200-1781033400@5thforcesupport.com
SUMMARY:Game Day
DESCRIPTION:For more information\, call the Minot AFB Library at 723-3344.
URL:https://5thforcesupport.com/event/game-day-3-2/2026-06-09/
LOCATION:Library\, 156 Missile Ave\, Minot AFB\, ND\, 58704\, United States
CATEGORIES:Fun,Library
ATTACH;FMTTYPE=image/jpeg:https://5thforcesupport.com/wp-content/uploads/2024/07/Library-Game-Day.jpg
GEO:48.41945534963;-101.32449916146
X-APPLE-STRUCTURED-LOCATION;VALUE=URI;X-ADDRESS=Library 156 Missile Ave Minot AFB ND 58704 United States;X-APPLE-RADIUS=500;X-TITLE=156 Missile Ave:geo:-101.32449916146,48.41945534963
END:VEVENT
BEGIN:VEVENT
DTSTART;TZID=UTC:20260616T100000
DTEND;TZID=UTC:20260616T193000
DTSTAMP:20260424T165008
CREATED:20251024T204926Z
LAST-MODIFIED:20260416T161730Z
UID:10009435-1781604000-1781638200@5thforcesupport.com
SUMMARY:Game Day
DESCRIPTION:For more information\, call the Minot AFB Library at 723-3344.
URL:https://5thforcesupport.com/event/game-day-3-2/2026-06-16/
LOCATION:Library\, 156 Missile Ave\, Minot AFB\, ND\, 58704\, United States
CATEGORIES:Fun,Library
ATTACH;FMTTYPE=image/jpeg:https://5thforcesupport.com/wp-content/uploads/2024/07/Library-Game-Day.jpg
GEO:48.41945534963;-101.32449916146
X-APPLE-STRUCTURED-LOCATION;VALUE=URI;X-ADDRESS=Library 156 Missile Ave Minot AFB ND 58704 United States;X-APPLE-RADIUS=500;X-TITLE=156 Missile Ave:geo:-101.32449916146,48.41945534963
END:VEVENT
BEGIN:VEVENT
DTSTART;TZID=UTC:20260623T100000
DTEND;TZID=UTC:20260623T193000
DTSTAMP:20260424T165008
CREATED:20251024T204926Z
LAST-MODIFIED:20260416T161730Z
UID:10009436-1782208800-1782243000@5thforcesupport.com
SUMMARY:Game Day
DESCRIPTION:For more information\, call the Minot AFB Library at 723-3344.
URL:https://5thforcesupport.com/event/game-day-3-2/2026-06-23/
LOCATION:Library\, 156 Missile Ave\, Minot AFB\, ND\, 58704\, United States
CATEGORIES:Fun,Library
ATTACH;FMTTYPE=image/jpeg:https://5thforcesupport.com/wp-content/uploads/2024/07/Library-Game-Day.jpg
GEO:48.41945534963;-101.32449916146
X-APPLE-STRUCTURED-LOCATION;VALUE=URI;X-ADDRESS=Library 156 Missile Ave Minot AFB ND 58704 United States;X-APPLE-RADIUS=500;X-TITLE=156 Missile Ave:geo:-101.32449916146,48.41945534963
END:VEVENT
BEGIN:VEVENT
DTSTART;TZID=UTC:20260630T100000
DTEND;TZID=UTC:20260630T193000
DTSTAMP:20260424T165008
CREATED:20251024T204926Z
LAST-MODIFIED:20260416T161730Z
UID:10009437-1782813600-1782847800@5thforcesupport.com
SUMMARY:Game Day
DESCRIPTION:For more information\, call the Minot AFB Library at 723-3344.
URL:https://5thforcesupport.com/event/game-day-3-2/2026-06-30/
LOCATION:Library\, 156 Missile Ave\, Minot AFB\, ND\, 58704\, United States
CATEGORIES:Fun,Library
ATTACH;FMTTYPE=image/jpeg:https://5thforcesupport.com/wp-content/uploads/2024/07/Library-Game-Day.jpg
GEO:48.41945534963;-101.32449916146
X-APPLE-STRUCTURED-LOCATION;VALUE=URI;X-ADDRESS=Library 156 Missile Ave Minot AFB ND 58704 United States;X-APPLE-RADIUS=500;X-TITLE=156 Missile Ave:geo:-101.32449916146,48.41945534963
END:VEVENT
END:VCALENDAR