BEGIN:VCALENDAR
VERSION:2.0
PRODID:-//Minot AFB - ECPv6.15.20//NONSGML v1.0//EN
CALSCALE:GREGORIAN
METHOD:PUBLISH
X-WR-CALNAME:Minot AFB
X-ORIGINAL-URL:https://5thforcesupport.com
X-WR-CALDESC:Events for Minot AFB
REFRESH-INTERVAL;VALUE=DURATION:PT1H
X-Robots-Tag:noindex
X-PUBLISHED-TTL:PT1H
BEGIN:VTIMEZONE
TZID:UTC
BEGIN:STANDARD
TZOFFSETFROM:+0000
TZOFFSETTO:+0000
TZNAME:UTC
DTSTART:20250101T000000
END:STANDARD
END:VTIMEZONE
BEGIN:VEVENT
DTSTART;TZID=UTC:20260427T073000
DTEND;TZID=UTC:20260427T160000
DTSTAMP:20260424T132948
CREATED:20251107T174328Z
LAST-MODIFIED:20260403T161521Z
UID:10008920-1777275000-1777305600@5thforcesupport.com
SUMMARY:FTEC
DESCRIPTION:Held at the Professional Development Center. \nTo register\, visit: https://www.signupgenius.com/\nSearch for creator’s email: 5fss.fsdp.pdc@us.af.mil \nFor more details\, contact MSgt Patrick Grammel at 723-4854 or MSgt Morgan Fileccia at 723-1724
URL:https://5thforcesupport.com/event/ftec-2/2026-04-27/
LOCATION:Professional Development Center\, 340 Missile Ave\, Minot AFB\, ND\, 58704\, United States
CATEGORIES:Force Support,Professional Development Center
GEO:48.423015010103;-101.3318375643
X-APPLE-STRUCTURED-LOCATION;VALUE=URI;X-ADDRESS=Professional Development Center 340 Missile Ave Minot AFB ND 58704 United States;X-APPLE-RADIUS=500;X-TITLE=340 Missile Ave:geo:-101.3318375643,48.423015010103
END:VEVENT
BEGIN:VEVENT
DTSTART;TZID=UTC:20260428T073000
DTEND;TZID=UTC:20260428T160000
DTSTAMP:20260424T132948
CREATED:20251107T174328Z
LAST-MODIFIED:20260403T161521Z
UID:10008921-1777361400-1777392000@5thforcesupport.com
SUMMARY:FTEC
DESCRIPTION:Held at the Professional Development Center. \nTo register\, visit: https://www.signupgenius.com/\nSearch for creator’s email: 5fss.fsdp.pdc@us.af.mil \nFor more details\, contact MSgt Patrick Grammel at 723-4854 or MSgt Morgan Fileccia at 723-1724
URL:https://5thforcesupport.com/event/ftec-2/2026-04-28/
LOCATION:Professional Development Center\, 340 Missile Ave\, Minot AFB\, ND\, 58704\, United States
CATEGORIES:Force Support,Professional Development Center
GEO:48.423015010103;-101.3318375643
X-APPLE-STRUCTURED-LOCATION;VALUE=URI;X-ADDRESS=Professional Development Center 340 Missile Ave Minot AFB ND 58704 United States;X-APPLE-RADIUS=500;X-TITLE=340 Missile Ave:geo:-101.3318375643,48.423015010103
END:VEVENT
BEGIN:VEVENT
DTSTART;TZID=UTC:20260429T073000
DTEND;TZID=UTC:20260429T160000
DTSTAMP:20260424T132948
CREATED:20251107T174328Z
LAST-MODIFIED:20260403T161521Z
UID:10008922-1777447800-1777478400@5thforcesupport.com
SUMMARY:FTEC
DESCRIPTION:Held at the Professional Development Center. \nTo register\, visit: https://www.signupgenius.com/\nSearch for creator’s email: 5fss.fsdp.pdc@us.af.mil \nFor more details\, contact MSgt Patrick Grammel at 723-4854 or MSgt Morgan Fileccia at 723-1724
URL:https://5thforcesupport.com/event/ftec-2/2026-04-29/
LOCATION:Professional Development Center\, 340 Missile Ave\, Minot AFB\, ND\, 58704\, United States
CATEGORIES:Force Support,Professional Development Center
GEO:48.423015010103;-101.3318375643
X-APPLE-STRUCTURED-LOCATION;VALUE=URI;X-ADDRESS=Professional Development Center 340 Missile Ave Minot AFB ND 58704 United States;X-APPLE-RADIUS=500;X-TITLE=340 Missile Ave:geo:-101.3318375643,48.423015010103
END:VEVENT
BEGIN:VEVENT
DTSTART;TZID=UTC:20260430T073000
DTEND;TZID=UTC:20260430T160000
DTSTAMP:20260424T132948
CREATED:20251107T174328Z
LAST-MODIFIED:20260403T161521Z
UID:10008923-1777534200-1777564800@5thforcesupport.com
SUMMARY:FTEC
DESCRIPTION:Held at the Professional Development Center. \nTo register\, visit: https://www.signupgenius.com/\nSearch for creator’s email: 5fss.fsdp.pdc@us.af.mil \nFor more details\, contact MSgt Patrick Grammel at 723-4854 or MSgt Morgan Fileccia at 723-1724
URL:https://5thforcesupport.com/event/ftec-2/2026-04-30/
LOCATION:Professional Development Center\, 340 Missile Ave\, Minot AFB\, ND\, 58704\, United States
CATEGORIES:Force Support,Professional Development Center
GEO:48.423015010103;-101.3318375643
X-APPLE-STRUCTURED-LOCATION;VALUE=URI;X-ADDRESS=Professional Development Center 340 Missile Ave Minot AFB ND 58704 United States;X-APPLE-RADIUS=500;X-TITLE=340 Missile Ave:geo:-101.3318375643,48.423015010103
END:VEVENT
BEGIN:VEVENT
DTSTART;TZID=UTC:20260501T073000
DTEND;TZID=UTC:20260501T160000
DTSTAMP:20260424T132948
CREATED:20251107T174328Z
LAST-MODIFIED:20260403T161521Z
UID:10008924-1777620600-1777651200@5thforcesupport.com
SUMMARY:FTEC
DESCRIPTION:Held at the Professional Development Center. \nTo register\, visit: https://www.signupgenius.com/\nSearch for creator’s email: 5fss.fsdp.pdc@us.af.mil \nFor more details\, contact MSgt Patrick Grammel at 723-4854 or MSgt Morgan Fileccia at 723-1724
URL:https://5thforcesupport.com/event/ftec-2/2026-05-01/
LOCATION:Professional Development Center\, 340 Missile Ave\, Minot AFB\, ND\, 58704\, United States
CATEGORIES:Force Support,Professional Development Center
GEO:48.423015010103;-101.3318375643
X-APPLE-STRUCTURED-LOCATION;VALUE=URI;X-ADDRESS=Professional Development Center 340 Missile Ave Minot AFB ND 58704 United States;X-APPLE-RADIUS=500;X-TITLE=340 Missile Ave:geo:-101.3318375643,48.423015010103
END:VEVENT
BEGIN:VEVENT
DTSTART;TZID=UTC:20260511T073000
DTEND;TZID=UTC:20260511T160000
DTSTAMP:20260424T132948
CREATED:20251107T174328Z
LAST-MODIFIED:20260403T161521Z
UID:10009372-1778484600-1778515200@5thforcesupport.com
SUMMARY:FTEC
DESCRIPTION:Held at the Professional Development Center. \nTo register\, visit: https://www.signupgenius.com/\nSearch for creator’s email: 5fss.fsdp.pdc@us.af.mil \nFor more details\, contact MSgt Patrick Grammel at 723-4854 or MSgt Morgan Fileccia at 723-1724
URL:https://5thforcesupport.com/event/ftec-2/2026-05-11/
LOCATION:Professional Development Center\, 340 Missile Ave\, Minot AFB\, ND\, 58704\, United States
CATEGORIES:Force Support,Professional Development Center
GEO:48.423015010103;-101.3318375643
X-APPLE-STRUCTURED-LOCATION;VALUE=URI;X-ADDRESS=Professional Development Center 340 Missile Ave Minot AFB ND 58704 United States;X-APPLE-RADIUS=500;X-TITLE=340 Missile Ave:geo:-101.3318375643,48.423015010103
END:VEVENT
BEGIN:VEVENT
DTSTART;TZID=UTC:20260512T073000
DTEND;TZID=UTC:20260512T160000
DTSTAMP:20260424T132948
CREATED:20251107T174328Z
LAST-MODIFIED:20260403T161521Z
UID:10009373-1778571000-1778601600@5thforcesupport.com
SUMMARY:FTEC
DESCRIPTION:Held at the Professional Development Center. \nTo register\, visit: https://www.signupgenius.com/\nSearch for creator’s email: 5fss.fsdp.pdc@us.af.mil \nFor more details\, contact MSgt Patrick Grammel at 723-4854 or MSgt Morgan Fileccia at 723-1724
URL:https://5thforcesupport.com/event/ftec-2/2026-05-12/
LOCATION:Professional Development Center\, 340 Missile Ave\, Minot AFB\, ND\, 58704\, United States
CATEGORIES:Force Support,Professional Development Center
GEO:48.423015010103;-101.3318375643
X-APPLE-STRUCTURED-LOCATION;VALUE=URI;X-ADDRESS=Professional Development Center 340 Missile Ave Minot AFB ND 58704 United States;X-APPLE-RADIUS=500;X-TITLE=340 Missile Ave:geo:-101.3318375643,48.423015010103
END:VEVENT
BEGIN:VEVENT
DTSTART;TZID=UTC:20260513T073000
DTEND;TZID=UTC:20260513T160000
DTSTAMP:20260424T132948
CREATED:20251107T174328Z
LAST-MODIFIED:20260403T161521Z
UID:10009374-1778657400-1778688000@5thforcesupport.com
SUMMARY:FTEC
DESCRIPTION:Held at the Professional Development Center. \nTo register\, visit: https://www.signupgenius.com/\nSearch for creator’s email: 5fss.fsdp.pdc@us.af.mil \nFor more details\, contact MSgt Patrick Grammel at 723-4854 or MSgt Morgan Fileccia at 723-1724
URL:https://5thforcesupport.com/event/ftec-2/2026-05-13/
LOCATION:Professional Development Center\, 340 Missile Ave\, Minot AFB\, ND\, 58704\, United States
CATEGORIES:Force Support,Professional Development Center
GEO:48.423015010103;-101.3318375643
X-APPLE-STRUCTURED-LOCATION;VALUE=URI;X-ADDRESS=Professional Development Center 340 Missile Ave Minot AFB ND 58704 United States;X-APPLE-RADIUS=500;X-TITLE=340 Missile Ave:geo:-101.3318375643,48.423015010103
END:VEVENT
BEGIN:VEVENT
DTSTART;TZID=UTC:20260514T073000
DTEND;TZID=UTC:20260514T160000
DTSTAMP:20260424T132948
CREATED:20251107T174328Z
LAST-MODIFIED:20260403T161521Z
UID:10009375-1778743800-1778774400@5thforcesupport.com
SUMMARY:FTEC
DESCRIPTION:Held at the Professional Development Center. \nTo register\, visit: https://www.signupgenius.com/\nSearch for creator’s email: 5fss.fsdp.pdc@us.af.mil \nFor more details\, contact MSgt Patrick Grammel at 723-4854 or MSgt Morgan Fileccia at 723-1724
URL:https://5thforcesupport.com/event/ftec-2/2026-05-14/
LOCATION:Professional Development Center\, 340 Missile Ave\, Minot AFB\, ND\, 58704\, United States
CATEGORIES:Force Support,Professional Development Center
GEO:48.423015010103;-101.3318375643
X-APPLE-STRUCTURED-LOCATION;VALUE=URI;X-ADDRESS=Professional Development Center 340 Missile Ave Minot AFB ND 58704 United States;X-APPLE-RADIUS=500;X-TITLE=340 Missile Ave:geo:-101.3318375643,48.423015010103
END:VEVENT
BEGIN:VEVENT
DTSTART;TZID=UTC:20260515T073000
DTEND;TZID=UTC:20260515T160000
DTSTAMP:20260424T132948
CREATED:20251107T174328Z
LAST-MODIFIED:20260403T161521Z
UID:10009376-1778830200-1778860800@5thforcesupport.com
SUMMARY:FTEC
DESCRIPTION:Held at the Professional Development Center. \nTo register\, visit: https://www.signupgenius.com/\nSearch for creator’s email: 5fss.fsdp.pdc@us.af.mil \nFor more details\, contact MSgt Patrick Grammel at 723-4854 or MSgt Morgan Fileccia at 723-1724
URL:https://5thforcesupport.com/event/ftec-2/2026-05-15/
LOCATION:Professional Development Center\, 340 Missile Ave\, Minot AFB\, ND\, 58704\, United States
CATEGORIES:Force Support,Professional Development Center
GEO:48.423015010103;-101.3318375643
X-APPLE-STRUCTURED-LOCATION;VALUE=URI;X-ADDRESS=Professional Development Center 340 Missile Ave Minot AFB ND 58704 United States;X-APPLE-RADIUS=500;X-TITLE=340 Missile Ave:geo:-101.3318375643,48.423015010103
END:VEVENT
END:VCALENDAR