BEGIN:VCALENDAR
VERSION:2.0
PRODID:-//Minot AFB - ECPv6.15.20//NONSGML v1.0//EN
CALSCALE:GREGORIAN
METHOD:PUBLISH
X-WR-CALNAME:Minot AFB
X-ORIGINAL-URL:https://5thforcesupport.com
X-WR-CALDESC:Events for Minot AFB
REFRESH-INTERVAL;VALUE=DURATION:PT1H
X-Robots-Tag:noindex
X-PUBLISHED-TTL:PT1H
BEGIN:VTIMEZONE
TZID:UTC
BEGIN:STANDARD
TZOFFSETFROM:+0000
TZOFFSETTO:+0000
TZNAME:UTC
DTSTART:20250101T000000
END:STANDARD
END:VTIMEZONE
BEGIN:VEVENT
DTSTART;TZID=UTC:20260504T140000
DTEND;TZID=UTC:20260504T150000
DTSTAMP:20260424T164936
CREATED:20251107T174029Z
LAST-MODIFIED:20260403T161204Z
UID:10009368-1777903200-1777906800@5thforcesupport.com
SUMMARY:Palace Chase/Front Briefing
DESCRIPTION:Held at the Professional Development Center. \nTo register\, visit: https://www.signupgenius.com/\nSearch for creator’s email: 5fss.fsdp.pdc@us.af.mil \nFor more details\, contact MSgt Patrick Grammel at 723-4854 or MSgt Morgan Fileccia at 723-1724
URL:https://5thforcesupport.com/event/palace-chase-front-briefing/2026-05-04/
LOCATION:Professional Development Center\, 340 Missile Ave\, Minot AFB\, ND\, 58704\, United States
CATEGORIES:Force Support,Professional Development Center
GEO:48.423015010103;-101.3318375643
X-APPLE-STRUCTURED-LOCATION;VALUE=URI;X-ADDRESS=Professional Development Center 340 Missile Ave Minot AFB ND 58704 United States;X-APPLE-RADIUS=500;X-TITLE=340 Missile Ave:geo:-101.3318375643,48.423015010103
END:VEVENT
BEGIN:VEVENT
DTSTART;TZID=UTC:20260518T140000
DTEND;TZID=UTC:20260518T150000
DTSTAMP:20260424T164936
CREATED:20251107T174029Z
LAST-MODIFIED:20260403T161204Z
UID:10009369-1779112800-1779116400@5thforcesupport.com
SUMMARY:Palace Chase/Front Briefing
DESCRIPTION:Held at the Professional Development Center. \nTo register\, visit: https://www.signupgenius.com/\nSearch for creator’s email: 5fss.fsdp.pdc@us.af.mil \nFor more details\, contact MSgt Patrick Grammel at 723-4854 or MSgt Morgan Fileccia at 723-1724
URL:https://5thforcesupport.com/event/palace-chase-front-briefing/2026-05-18/
LOCATION:Professional Development Center\, 340 Missile Ave\, Minot AFB\, ND\, 58704\, United States
CATEGORIES:Force Support,Professional Development Center
GEO:48.423015010103;-101.3318375643
X-APPLE-STRUCTURED-LOCATION;VALUE=URI;X-ADDRESS=Professional Development Center 340 Missile Ave Minot AFB ND 58704 United States;X-APPLE-RADIUS=500;X-TITLE=340 Missile Ave:geo:-101.3318375643,48.423015010103
END:VEVENT
END:VCALENDAR