BEGIN:VCALENDAR
VERSION:2.0
PRODID:-//Minot AFB - ECPv6.15.20//NONSGML v1.0//EN
CALSCALE:GREGORIAN
METHOD:PUBLISH
X-WR-CALNAME:Minot AFB
X-ORIGINAL-URL:https://5thforcesupport.com
X-WR-CALDESC:Events for Minot AFB
REFRESH-INTERVAL;VALUE=DURATION:PT1H
X-Robots-Tag:noindex
X-PUBLISHED-TTL:PT1H
BEGIN:VTIMEZONE
TZID:UTC
BEGIN:STANDARD
TZOFFSETFROM:+0000
TZOFFSETTO:+0000
TZNAME:UTC
DTSTART:20250101T000000
END:STANDARD
END:VTIMEZONE
BEGIN:VEVENT
DTSTART;TZID=UTC:20260424T073000
DTEND;TZID=UTC:20260424T160000
DTSTAMP:20260424T135541
CREATED:20251107T172045Z
LAST-MODIFIED:20260403T161018Z
UID:10008929-1777015800-1777046400@5thforcesupport.com
SUMMARY:Junior Enlisted Foundations Course 300
DESCRIPTION:Held at the Professional Development Center. \nTo register\, visit: https://www.signupgenius.com/index.cfm?go=c.SignUpSearch\nSearch for creator’s email: 5fss.fsdp.pdc@us.af.mil \nFor more details\, contact MSgt Patrick Grammel at 723-4854 or MSgt Morgan Fileccia at 723-1724
URL:https://5thforcesupport.com/event/junior-enlisted-foundations-course-300/2026-04-24/
LOCATION:Professional Development Center\, 340 Missile Ave\, Minot AFB\, ND\, 58704\, United States
CATEGORIES:Force Support,Professional Development Center
GEO:48.423015010103;-101.3318375643
X-APPLE-STRUCTURED-LOCATION;VALUE=URI;X-ADDRESS=Professional Development Center 340 Missile Ave Minot AFB ND 58704 United States;X-APPLE-RADIUS=500;X-TITLE=340 Missile Ave:geo:-101.3318375643,48.423015010103
END:VEVENT
BEGIN:VEVENT
DTSTART;TZID=UTC:20260518T073000
DTEND;TZID=UTC:20260518T160000
DTSTAMP:20260424T135541
CREATED:20251107T172045Z
LAST-MODIFIED:20260403T161018Z
UID:10009364-1779089400-1779120000@5thforcesupport.com
SUMMARY:Junior Enlisted Foundations Course 300
DESCRIPTION:Held at the Professional Development Center. \nTo register\, visit: https://www.signupgenius.com/index.cfm?go=c.SignUpSearch\nSearch for creator’s email: 5fss.fsdp.pdc@us.af.mil \nFor more details\, contact MSgt Patrick Grammel at 723-4854 or MSgt Morgan Fileccia at 723-1724
URL:https://5thforcesupport.com/event/junior-enlisted-foundations-course-300/2026-05-18/
LOCATION:Professional Development Center\, 340 Missile Ave\, Minot AFB\, ND\, 58704\, United States
CATEGORIES:Force Support,Professional Development Center
GEO:48.423015010103;-101.3318375643
X-APPLE-STRUCTURED-LOCATION;VALUE=URI;X-ADDRESS=Professional Development Center 340 Missile Ave Minot AFB ND 58704 United States;X-APPLE-RADIUS=500;X-TITLE=340 Missile Ave:geo:-101.3318375643,48.423015010103
END:VEVENT
BEGIN:VEVENT
DTSTART;TZID=UTC:20260519T073000
DTEND;TZID=UTC:20260519T160000
DTSTAMP:20260424T135541
CREATED:20251107T172045Z
LAST-MODIFIED:20260403T161018Z
UID:10009365-1779175800-1779206400@5thforcesupport.com
SUMMARY:Junior Enlisted Foundations Course 300
DESCRIPTION:Held at the Professional Development Center. \nTo register\, visit: https://www.signupgenius.com/index.cfm?go=c.SignUpSearch\nSearch for creator’s email: 5fss.fsdp.pdc@us.af.mil \nFor more details\, contact MSgt Patrick Grammel at 723-4854 or MSgt Morgan Fileccia at 723-1724
URL:https://5thforcesupport.com/event/junior-enlisted-foundations-course-300/2026-05-19/
LOCATION:Professional Development Center\, 340 Missile Ave\, Minot AFB\, ND\, 58704\, United States
CATEGORIES:Force Support,Professional Development Center
GEO:48.423015010103;-101.3318375643
X-APPLE-STRUCTURED-LOCATION;VALUE=URI;X-ADDRESS=Professional Development Center 340 Missile Ave Minot AFB ND 58704 United States;X-APPLE-RADIUS=500;X-TITLE=340 Missile Ave:geo:-101.3318375643,48.423015010103
END:VEVENT
BEGIN:VEVENT
DTSTART;TZID=UTC:20260520T073000
DTEND;TZID=UTC:20260520T160000
DTSTAMP:20260424T135541
CREATED:20251107T172045Z
LAST-MODIFIED:20260403T161018Z
UID:10009366-1779262200-1779292800@5thforcesupport.com
SUMMARY:Junior Enlisted Foundations Course 300
DESCRIPTION:Held at the Professional Development Center. \nTo register\, visit: https://www.signupgenius.com/index.cfm?go=c.SignUpSearch\nSearch for creator’s email: 5fss.fsdp.pdc@us.af.mil \nFor more details\, contact MSgt Patrick Grammel at 723-4854 or MSgt Morgan Fileccia at 723-1724
URL:https://5thforcesupport.com/event/junior-enlisted-foundations-course-300/2026-05-20/
LOCATION:Professional Development Center\, 340 Missile Ave\, Minot AFB\, ND\, 58704\, United States
CATEGORIES:Force Support,Professional Development Center
GEO:48.423015010103;-101.3318375643
X-APPLE-STRUCTURED-LOCATION;VALUE=URI;X-ADDRESS=Professional Development Center 340 Missile Ave Minot AFB ND 58704 United States;X-APPLE-RADIUS=500;X-TITLE=340 Missile Ave:geo:-101.3318375643,48.423015010103
END:VEVENT
BEGIN:VEVENT
DTSTART;TZID=UTC:20260521T073000
DTEND;TZID=UTC:20260521T160000
DTSTAMP:20260424T135541
CREATED:20251107T172045Z
LAST-MODIFIED:20260403T161018Z
UID:10009367-1779348600-1779379200@5thforcesupport.com
SUMMARY:Junior Enlisted Foundations Course 300
DESCRIPTION:Held at the Professional Development Center. \nTo register\, visit: https://www.signupgenius.com/index.cfm?go=c.SignUpSearch\nSearch for creator’s email: 5fss.fsdp.pdc@us.af.mil \nFor more details\, contact MSgt Patrick Grammel at 723-4854 or MSgt Morgan Fileccia at 723-1724
URL:https://5thforcesupport.com/event/junior-enlisted-foundations-course-300/2026-05-21/
LOCATION:Professional Development Center\, 340 Missile Ave\, Minot AFB\, ND\, 58704\, United States
CATEGORIES:Force Support,Professional Development Center
GEO:48.423015010103;-101.3318375643
X-APPLE-STRUCTURED-LOCATION;VALUE=URI;X-ADDRESS=Professional Development Center 340 Missile Ave Minot AFB ND 58704 United States;X-APPLE-RADIUS=500;X-TITLE=340 Missile Ave:geo:-101.3318375643,48.423015010103
END:VEVENT
END:VCALENDAR