BEGIN:VCALENDAR
VERSION:2.0
PRODID:-//Minot AFB - ECPv6.15.20//NONSGML v1.0//EN
CALSCALE:GREGORIAN
METHOD:PUBLISH
X-WR-CALNAME:Minot AFB
X-ORIGINAL-URL:https://5thforcesupport.com
X-WR-CALDESC:Events for Minot AFB
REFRESH-INTERVAL;VALUE=DURATION:PT1H
X-Robots-Tag:noindex
X-PUBLISHED-TTL:PT1H
BEGIN:VTIMEZONE
TZID:UTC
BEGIN:STANDARD
TZOFFSETFROM:+0000
TZOFFSETTO:+0000
TZNAME:UTC
DTSTART:20250101T000000
END:STANDARD
END:VTIMEZONE
BEGIN:VEVENT
DTSTART;TZID=UTC:20260430T083000
DTEND;TZID=UTC:20260430T110000
DTSTAMP:20260424T201624
CREATED:20251029T171131Z
LAST-MODIFIED:20260413T135224Z
UID:10008756-1777537800-1777546800@5thforcesupport.com
SUMMARY:Pre-Separation Briefing
DESCRIPTION:For more information\, call the Military & Family Readiness Center at 723-3950 or email 5fss.family.support@us.af.mil
URL:https://5thforcesupport.com/event/pre-separation-briefing-3-2/2026-04-30/
LOCATION:Military & Family Readiness Center\, 291 Peacekeeper PL\, Minot AFB\, ND\, 58704\, United States
CATEGORIES:Force Support,Military & Family Readiness Center
GEO:48.426281549162;-101.32038653094
X-APPLE-STRUCTURED-LOCATION;VALUE=URI;X-ADDRESS=Military & Family Readiness Center 291 Peacekeeper PL Minot AFB ND 58704 United States;X-APPLE-RADIUS=500;X-TITLE=291 Peacekeeper PL:geo:-101.32038653094,48.426281549162
END:VEVENT
BEGIN:VEVENT
DTSTART;TZID=UTC:20260521T083000
DTEND;TZID=UTC:20260521T113000
DTSTAMP:20260424T201624
CREATED:20251029T171131Z
LAST-MODIFIED:20260413T135224Z
UID:10008941-1779352200-1779363000@5thforcesupport.com
SUMMARY:Pre-Separation Briefing
DESCRIPTION:For more information\, call the Military & Family Readiness Center at 723-3950 or email 5fss.family.support@us.af.mil
URL:https://5thforcesupport.com/event/pre-separation-briefing-3-2/2026-05-21/
LOCATION:Military & Family Readiness Center\, 291 Peacekeeper PL\, Minot AFB\, ND\, 58704\, United States
CATEGORIES:Force Support,Military & Family Readiness Center
GEO:48.426281549162;-101.32038653094
X-APPLE-STRUCTURED-LOCATION;VALUE=URI;X-ADDRESS=Military & Family Readiness Center 291 Peacekeeper PL Minot AFB ND 58704 United States;X-APPLE-RADIUS=500;X-TITLE=291 Peacekeeper PL:geo:-101.32038653094,48.426281549162
END:VEVENT
BEGIN:VEVENT
DTSTART;TZID=UTC:20260528T083000
DTEND;TZID=UTC:20260528T113000
DTSTAMP:20260424T201624
CREATED:20251029T171131Z
LAST-MODIFIED:20260413T135224Z
UID:10008942-1779957000-1779967800@5thforcesupport.com
SUMMARY:Pre-Separation Briefing
DESCRIPTION:For more information\, call the Military & Family Readiness Center at 723-3950 or email 5fss.family.support@us.af.mil
URL:https://5thforcesupport.com/event/pre-separation-briefing-3-2/2026-05-28/
LOCATION:Military & Family Readiness Center\, 291 Peacekeeper PL\, Minot AFB\, ND\, 58704\, United States
CATEGORIES:Force Support,Military & Family Readiness Center
GEO:48.426281549162;-101.32038653094
X-APPLE-STRUCTURED-LOCATION;VALUE=URI;X-ADDRESS=Military & Family Readiness Center 291 Peacekeeper PL Minot AFB ND 58704 United States;X-APPLE-RADIUS=500;X-TITLE=291 Peacekeeper PL:geo:-101.32038653094,48.426281549162
END:VEVENT
BEGIN:VEVENT
DTSTART;TZID=UTC:20260611T083000
DTEND;TZID=UTC:20260611T113000
DTSTAMP:20260424T201624
CREATED:20251029T171131Z
LAST-MODIFIED:20260413T135224Z
UID:10009395-1781166600-1781177400@5thforcesupport.com
SUMMARY:Pre-Separation Briefing
DESCRIPTION:For more information\, call the Military & Family Readiness Center at 723-3950 or email 5fss.family.support@us.af.mil
URL:https://5thforcesupport.com/event/pre-separation-briefing-3-2/2026-06-11/
LOCATION:Military & Family Readiness Center\, 291 Peacekeeper PL\, Minot AFB\, ND\, 58704\, United States
CATEGORIES:Force Support,Military & Family Readiness Center
GEO:48.426281549162;-101.32038653094
X-APPLE-STRUCTURED-LOCATION;VALUE=URI;X-ADDRESS=Military & Family Readiness Center 291 Peacekeeper PL Minot AFB ND 58704 United States;X-APPLE-RADIUS=500;X-TITLE=291 Peacekeeper PL:geo:-101.32038653094,48.426281549162
END:VEVENT
BEGIN:VEVENT
DTSTART;TZID=UTC:20260618T083000
DTEND;TZID=UTC:20260618T113000
DTSTAMP:20260424T201624
CREATED:20251029T171131Z
LAST-MODIFIED:20260413T135224Z
UID:10009396-1781771400-1781782200@5thforcesupport.com
SUMMARY:Pre-Separation Briefing
DESCRIPTION:For more information\, call the Military & Family Readiness Center at 723-3950 or email 5fss.family.support@us.af.mil
URL:https://5thforcesupport.com/event/pre-separation-briefing-3-2/2026-06-18/
LOCATION:Military & Family Readiness Center\, 291 Peacekeeper PL\, Minot AFB\, ND\, 58704\, United States
CATEGORIES:Force Support,Military & Family Readiness Center
GEO:48.426281549162;-101.32038653094
X-APPLE-STRUCTURED-LOCATION;VALUE=URI;X-ADDRESS=Military & Family Readiness Center 291 Peacekeeper PL Minot AFB ND 58704 United States;X-APPLE-RADIUS=500;X-TITLE=291 Peacekeeper PL:geo:-101.32038653094,48.426281549162
END:VEVENT
END:VCALENDAR