BEGIN:VCALENDAR
VERSION:2.0
PRODID:-//Minot AFB - ECPv6.15.20//NONSGML v1.0//EN
CALSCALE:GREGORIAN
METHOD:PUBLISH
X-ORIGINAL-URL:https://5thforcesupport.com
X-WR-CALDESC:Events for Minot AFB
REFRESH-INTERVAL;VALUE=DURATION:PT1H
X-Robots-Tag:noindex
X-PUBLISHED-TTL:PT1H
BEGIN:VTIMEZONE
TZID:UTC
BEGIN:STANDARD
TZOFFSETFROM:+0000
TZOFFSETTO:+0000
TZNAME:UTC
DTSTART:20250101T000000
END:STANDARD
END:VTIMEZONE
BEGIN:VEVENT
DTSTART;TZID=UTC:20260424T073000
DTEND;TZID=UTC:20260424T160000
DTSTAMP:20260424T152136
CREATED:20251107T172045Z
LAST-MODIFIED:20260403T161018Z
UID:10008929-1777015800-1777046400@5thforcesupport.com
SUMMARY:Junior Enlisted Foundations Course 300
DESCRIPTION:Held at the Professional Development Center. \nTo register\, visit: https://www.signupgenius.com/index.cfm?go=c.SignUpSearch\nSearch for creator’s email: 5fss.fsdp.pdc@us.af.mil \nFor more details\, contact MSgt Patrick Grammel at 723-4854 or MSgt Morgan Fileccia at 723-1724
URL:https://5thforcesupport.com/event/junior-enlisted-foundations-course-300/2026-04-24/
LOCATION:Professional Development Center\, 340 Missile Ave\, Minot AFB\, ND\, 58704\, United States
CATEGORIES:Force Support,Professional Development Center
GEO:48.423015010103;-101.3318375643
X-APPLE-STRUCTURED-LOCATION;VALUE=URI;X-ADDRESS=Professional Development Center 340 Missile Ave Minot AFB ND 58704 United States;X-APPLE-RADIUS=500;X-TITLE=340 Missile Ave:geo:-101.3318375643,48.423015010103
END:VEVENT
BEGIN:VEVENT
DTSTART;TZID=UTC:20260424T080000
DTEND;TZID=UTC:20260424T160000
DTSTAMP:20260424T152136
CREATED:20260304T220830Z
LAST-MODIFIED:20260413T135512Z
UID:10008907-1777017600-1777046400@5thforcesupport.com
SUMMARY:TAP DoL Employment Track Workshop
DESCRIPTION:For more information\, call the Military & Family Readiness Center at 723-3950 or email 5fss.family.support@us.af.mil
URL:https://5thforcesupport.com/event/tap-dol-employment-track-workshop/2026-04-24/
LOCATION:Military & Family Readiness Center\, 291 Peacekeeper PL\, Minot AFB\, ND\, 58704\, United States
CATEGORIES:Force Support,Military & Family Readiness Center
GEO:48.426281549162;-101.32038653094
X-APPLE-STRUCTURED-LOCATION;VALUE=URI;X-ADDRESS=Military & Family Readiness Center 291 Peacekeeper PL Minot AFB ND 58704 United States;X-APPLE-RADIUS=500;X-TITLE=291 Peacekeeper PL:geo:-101.32038653094,48.426281549162
END:VEVENT
BEGIN:VEVENT
DTSTART;TZID=UTC:20260424T163000
DTEND;TZID=UTC:20260424T220000
DTSTAMP:20260424T152136
CREATED:20260309T135137Z
LAST-MODIFIED:20260331T135946Z
UID:10008934-1777048200-1777068000@5thforcesupport.com
SUMMARY:Friday Flicks
DESCRIPTION:Stop by Rockers for a fun Double feature and FREE Popcorn! \n727-ROCK
URL:https://5thforcesupport.com/event/friday-flicks-5/2026-04-24/
LOCATION:ND
CATEGORIES:Hot Events,Rockers Bar & Grill
ATTACH;FMTTYPE=image/jpeg:https://5thforcesupport.com/wp-content/uploads/2026/03/Friday-Flicks-Apr-26-scaled.jpg
END:VEVENT
BEGIN:VEVENT
DTSTART;TZID=UTC:20260424T173000
DTEND;TZID=UTC:20260424T193000
DTSTAMP:20260424T152136
CREATED:20260312T135955Z
LAST-MODIFIED:20260403T151809Z
UID:10008955-1777051800-1777059000@5thforcesupport.com
SUMMARY:FAMAGANZA - Month of the Military Child Carnival
DESCRIPTION:Inflatables\, games\, airbrush\, snacks\, and more during FAMAGANZA – Month of the Military Child Carnival on 24 April 2026 from 5:30PM – 7:30PM at the Youth Center! \nEnjoy a FREE carnival to celebrate the great youth of the military and their resiliency\, sacrifice\, and support all while bringing the best to our communities. \nDon’t forget to wear purple to show your support and appreciation for our military kids! \nSponsored by USAA\, Prestwich Orthodontics\, and SRT. No Federal endorsement of sponsors intended. \nFor details\, call the Youth Center at 723-2838
URL:https://5thforcesupport.com/event/famaganza-month-of-the-military-child-carnival/
LOCATION:Youth Center\, 286 Peacekeeper Pl\, Minot AFB\, ND\, 58704\, United States
CATEGORIES:Family,Hot Events,Youth Center
ATTACH;FMTTYPE=image/jpeg:https://5thforcesupport.com/wp-content/uploads/2026/03/04.24-FAMAGANZA-MOMC-Carnival.jpg
GEO:48.428723297808;-101.31986599058
X-APPLE-STRUCTURED-LOCATION;VALUE=URI;X-ADDRESS=Youth Center 286 Peacekeeper Pl Minot AFB ND 58704 United States;X-APPLE-RADIUS=500;X-TITLE=286 Peacekeeper Pl:geo:-101.31986599058,48.428723297808
END:VEVENT
BEGIN:VEVENT
DTSTART;TZID=UTC:20260424T173000
DTEND;TZID=UTC:20260424T203000
DTSTAMP:20260424T152136
CREATED:20260309T140225Z
LAST-MODIFIED:20260409T162642Z
UID:10008937-1777051800-1777062600@5thforcesupport.com
SUMMARY:Lipsync Showdown
DESCRIPTION:Lip Sync Showdown Rockers Bar & Grill24 Apr 2026 • 1730 \nCan’t sing? No problem! Pick your anthem\, bring the drama\,and show off those legendary dance moves!\n1st place $75\, 2nd place: $50\, 3rd place $25 cash prizes & free appetizers available while supplies last. \nGrab your friends\, hit the stage\, and perform like a rockstar—no vocals required. The bigger the performance\, the better!\nRegister here: https://www.signupgenius.com/go/30E044DABAA22A7FE3-62616066-lipsync \nMust be 18+ to participate. \n 727-ROCK
URL:https://5thforcesupport.com/event/lipsync-battle/
LOCATION:ND
CATEGORIES:Hot Events,Rockers Bar & Grill
ATTACH;FMTTYPE=image/jpeg:https://5thforcesupport.com/wp-content/uploads/2026/03/Lip-Sync-Battle-Feb-26-1-scaled.jpg
END:VEVENT
BEGIN:VEVENT
DTSTART;TZID=UTC:20260424T200000
DTEND;TZID=UTC:20260424T230000
DTSTAMP:20260424T152136
CREATED:20260312T142309Z
LAST-MODIFIED:20260423T172058Z
UID:10008960-1777060800-1777071600@5thforcesupport.com
SUMMARY:Pre-Teen Late Night
DESCRIPTION:Stay up late\, hang out with friends\, and enjoy a night packed with exciting activities\, food\, cool games\, and tons of laughter during Pre-Teen Late Night on 24 April 2026 from 8:00PM – 11:00PM at the Youth Center! \nOpen to Middle School Pre-Teens\nMembers $15 • Non-Members $20 \nRegister by 22 April 2026 on the CYPBMS website at https://parent.afcyp.com/ \nKeystone Club will be selling snacks.\nCash only\, no bills larger than $10! \nFor details\, call the Youth Center at 723-2838
URL:https://5thforcesupport.com/event/pre-teen-late-night/
LOCATION:Youth Center\, 286 Peacekeeper Pl\, Minot AFB\, ND\, 58704\, United States
CATEGORIES:Family,Youth Center
ATTACH;FMTTYPE=image/jpeg:https://5thforcesupport.com/wp-content/uploads/2026/03/04.24-Pre-Teen-Late-Night.jpg
GEO:48.428723297808;-101.31986599058
X-APPLE-STRUCTURED-LOCATION;VALUE=URI;X-ADDRESS=Youth Center 286 Peacekeeper Pl Minot AFB ND 58704 United States;X-APPLE-RADIUS=500;X-TITLE=286 Peacekeeper Pl:geo:-101.31986599058,48.428723297808
END:VEVENT
BEGIN:VEVENT
DTSTART;TZID=UTC:20260424T200000
DTEND;TZID=UTC:20260425T080000
DTSTAMP:20260424T152136
CREATED:20260312T141920Z
LAST-MODIFIED:20260423T172102Z
UID:10008959-1777060800-1777104000@5thforcesupport.com
SUMMARY:Operation Megaphone Teen Lock-In
DESCRIPTION:Don’t miss out on a chance to LOCK IN your voice. Find out how you can make a difference in your community on 24 April 2026 from 8:00PM – 8:00AM at the Youth Center! \nOpen to teens age 13 – 18.\nMembers $25 • Non-Members $30 \nRegister by 22 April 2026 on the CYPBMS website at https://parent.afcyp.com/ \nKeystone Club will be selling snacks. Cash only\, no bills larger than $10! \nSponsored by Roers. No Federal endorsement of sponsor intended. \nFor details\, call the Youth Center at 723-2838
URL:https://5thforcesupport.com/event/operation-megaphone-teen-lock-in/
LOCATION:Youth Center\, 286 Peacekeeper Pl\, Minot AFB\, ND\, 58704\, United States
CATEGORIES:Family,Youth Center
ATTACH;FMTTYPE=image/jpeg:https://5thforcesupport.com/wp-content/uploads/2026/03/04.24-Operation-Megaphone.jpg
GEO:48.428723297808;-101.31986599058
X-APPLE-STRUCTURED-LOCATION;VALUE=URI;X-ADDRESS=Youth Center 286 Peacekeeper Pl Minot AFB ND 58704 United States;X-APPLE-RADIUS=500;X-TITLE=286 Peacekeeper Pl:geo:-101.31986599058,48.428723297808
END:VEVENT
BEGIN:VEVENT
DTSTART;TZID=UTC:20260425T090000
DTEND;TZID=UTC:20260425T190000
DTSTAMP:20260424T152136
CREATED:20260408T125614Z
LAST-MODIFIED:20260409T163119Z
UID:10009383-1777107600-1777143600@5thforcesupport.com
SUMMARY:Imagicon ITT Trip
DESCRIPTION:IMAGICON TRIP 25 April 2026 \nLevel up your weekend and join us for an epic trip to Imagicon! \n Meet at Outdoor Rec (ODR) at 0915 Only $10 per person Open to Airmen E1–E4 \nSpots are limited—don’t get left on “pause!” Call Outdoor Rec to lock in your seat: 723-3648 \nGame on. Adventure awaits.
URL:https://5thforcesupport.com/event/imagicon-itt-trip/
LOCATION:ND
CATEGORIES:Hot Events,Outdoor Recreation
ATTACH;FMTTYPE=image/jpeg:https://5thforcesupport.com/wp-content/uploads/2026/04/Imagicon-ITT-Trip-Apr-26-scaled.jpg
END:VEVENT
BEGIN:VEVENT
DTSTART;TZID=UTC:20260426T133000
DTEND;TZID=UTC:20260426T143000
DTSTAMP:20260424T152136
CREATED:20251205T152455Z
LAST-MODIFIED:20260416T160820Z
UID:10008847-1777210200-1777213800@5thforcesupport.com
SUMMARY:Sunday Escapes Book Club
DESCRIPTION:For more information call the Minot AFB Library at 723-3344
URL:https://5thforcesupport.com/event/sunday-escapes-book-club-2/2026-04-26/
LOCATION:Library\, 156 Missile Ave\, Minot AFB\, ND\, 58704\, United States
CATEGORIES:Fun,Library
ATTACH;FMTTYPE=image/jpeg:https://5thforcesupport.com/wp-content/uploads/2025/03/Library-Sunday-Escapes-Book-Club-scaled.jpg
GEO:48.41945534963;-101.32449916146
X-APPLE-STRUCTURED-LOCATION;VALUE=URI;X-ADDRESS=Library 156 Missile Ave Minot AFB ND 58704 United States;X-APPLE-RADIUS=500;X-TITLE=156 Missile Ave:geo:-101.32449916146,48.41945534963
END:VEVENT
BEGIN:VEVENT
DTSTART;TZID=UTC:20260427T073000
DTEND;TZID=UTC:20260427T160000
DTSTAMP:20260424T152136
CREATED:20251107T174328Z
LAST-MODIFIED:20260403T161521Z
UID:10008920-1777275000-1777305600@5thforcesupport.com
SUMMARY:FTEC
DESCRIPTION:Held at the Professional Development Center. \nTo register\, visit: https://www.signupgenius.com/\nSearch for creator’s email: 5fss.fsdp.pdc@us.af.mil \nFor more details\, contact MSgt Patrick Grammel at 723-4854 or MSgt Morgan Fileccia at 723-1724
URL:https://5thforcesupport.com/event/ftec-2/2026-04-27/
LOCATION:Professional Development Center\, 340 Missile Ave\, Minot AFB\, ND\, 58704\, United States
CATEGORIES:Force Support,Professional Development Center
GEO:48.423015010103;-101.3318375643
X-APPLE-STRUCTURED-LOCATION;VALUE=URI;X-ADDRESS=Professional Development Center 340 Missile Ave Minot AFB ND 58704 United States;X-APPLE-RADIUS=500;X-TITLE=340 Missile Ave:geo:-101.3318375643,48.423015010103
END:VEVENT
BEGIN:VEVENT
DTSTART;TZID=UTC:20260427T160000
DTEND;TZID=UTC:20260427T170000
DTSTAMP:20260424T152136
CREATED:20251217T152811Z
LAST-MODIFIED:20260416T161025Z
UID:10008848-1777305600-1777309200@5thforcesupport.com
SUMMARY:Newbery Book Club
DESCRIPTION:For more information\, call the Minot AFB Library at 723-3344
URL:https://5thforcesupport.com/event/newbery-book-club/2026-04-27/
LOCATION:Library\, 156 Missile Ave\, Minot AFB\, ND\, 58704\, United States
CATEGORIES:Fun,Library
ATTACH;FMTTYPE=image/jpeg:https://5thforcesupport.com/wp-content/uploads/2025/10/07-Library-Programs-Jan-26.jpg
GEO:48.41945534963;-101.32449916146
X-APPLE-STRUCTURED-LOCATION;VALUE=URI;X-ADDRESS=Library 156 Missile Ave Minot AFB ND 58704 United States;X-APPLE-RADIUS=500;X-TITLE=156 Missile Ave:geo:-101.32449916146,48.41945534963
END:VEVENT
BEGIN:VEVENT
DTSTART;TZID=UTC:20260428T073000
DTEND;TZID=UTC:20260428T160000
DTSTAMP:20260424T152136
CREATED:20251107T174328Z
LAST-MODIFIED:20260403T161521Z
UID:10008921-1777361400-1777392000@5thforcesupport.com
SUMMARY:FTEC
DESCRIPTION:Held at the Professional Development Center. \nTo register\, visit: https://www.signupgenius.com/\nSearch for creator’s email: 5fss.fsdp.pdc@us.af.mil \nFor more details\, contact MSgt Patrick Grammel at 723-4854 or MSgt Morgan Fileccia at 723-1724
URL:https://5thforcesupport.com/event/ftec-2/2026-04-28/
LOCATION:Professional Development Center\, 340 Missile Ave\, Minot AFB\, ND\, 58704\, United States
CATEGORIES:Force Support,Professional Development Center
GEO:48.423015010103;-101.3318375643
X-APPLE-STRUCTURED-LOCATION;VALUE=URI;X-ADDRESS=Professional Development Center 340 Missile Ave Minot AFB ND 58704 United States;X-APPLE-RADIUS=500;X-TITLE=340 Missile Ave:geo:-101.3318375643,48.423015010103
END:VEVENT
BEGIN:VEVENT
DTSTART;TZID=UTC:20260428T090000
DTEND;TZID=UTC:20260428T100000
DTSTAMP:20260424T152136
CREATED:20260205T141951Z
LAST-MODIFIED:20260223T145913Z
UID:10008784-1777366800-1777370400@5thforcesupport.com
SUMMARY:Thrift Savings Plan for Civilian Employees
DESCRIPTION:Learn all about TSP at the Military & Family Readiness Center on 28 April 2026 from 9:00AM – 10:00AM. \n• How to participate\n• Tax advantages\n• Agency matching & vesting\n• TSP fund choices\n• Minimizing risk\n• Maximizing returns\n• How your money grows\n• Withdrawal options\n• AND A LOT MORE!!! \nFor details\, call the M&FRC at 723-3950 or email 5fss.family.support@us.af.mil
URL:https://5thforcesupport.com/event/thrift-savings-plan-for-civilian-employees/
LOCATION:Military & Family Readiness Center\, 291 Peacekeeper PL\, Minot AFB\, ND\, 58704\, United States
CATEGORIES:Force Support,Military & Family Readiness Center
ATTACH;FMTTYPE=image/jpeg:https://5thforcesupport.com/wp-content/uploads/2026/02/04.28-Thrift-Savings-Plan-For-Civilian-Employees.jpg
GEO:48.426281549162;-101.32038653094
X-APPLE-STRUCTURED-LOCATION;VALUE=URI;X-ADDRESS=Military & Family Readiness Center 291 Peacekeeper PL Minot AFB ND 58704 United States;X-APPLE-RADIUS=500;X-TITLE=291 Peacekeeper PL:geo:-101.32038653094,48.426281549162
END:VEVENT
BEGIN:VEVENT
DTSTART;TZID=UTC:20260428T100000
DTEND;TZID=UTC:20260428T110000
DTSTAMP:20260424T152136
CREATED:20251211T212134Z
LAST-MODIFIED:20251211T212134Z
UID:10008032-1777370400-1777374000@5thforcesupport.com
SUMMARY:Tuition Assistance (TA) Brief
DESCRIPTION:Held at the Education Center\, Building 156\, Second Floor (above the Library). \nThis is the Mandatory Tuition Assistance Brief for all military personnel interested in using their educational benefits. \nFor details\, contact the Minot AFB Education Center at 723.2772 or email: minot.edcenter@us.af.mil
URL:https://5thforcesupport.com/event/tuition-assistance-ta-brief-3/2026-04-28/
LOCATION:Education Center\, 156 Missile Ave\, Minot AFB\, ND\, 58704\, United States
CATEGORIES:Education Center,Force Support
GEO:48.419453569522;-101.32445490501
X-APPLE-STRUCTURED-LOCATION;VALUE=URI;X-ADDRESS=Education Center 156 Missile Ave Minot AFB ND 58704 United States;X-APPLE-RADIUS=500;X-TITLE=156 Missile Ave:geo:-101.32445490501,48.419453569522
END:VEVENT
BEGIN:VEVENT
DTSTART;TZID=UTC:20260428T100000
DTEND;TZID=UTC:20260428T193000
DTSTAMP:20260424T152136
CREATED:20251024T204926Z
LAST-MODIFIED:20260416T161730Z
UID:10008858-1777370400-1777404600@5thforcesupport.com
SUMMARY:Game Day
DESCRIPTION:For more information\, call the Minot AFB Library at 723-3344.
URL:https://5thforcesupport.com/event/game-day-3-2/2026-04-28/
LOCATION:Library\, 156 Missile Ave\, Minot AFB\, ND\, 58704\, United States
CATEGORIES:Fun,Library
ATTACH;FMTTYPE=image/jpeg:https://5thforcesupport.com/wp-content/uploads/2024/07/Library-Game-Day.jpg
GEO:48.41945534963;-101.32449916146
X-APPLE-STRUCTURED-LOCATION;VALUE=URI;X-ADDRESS=Library 156 Missile Ave Minot AFB ND 58704 United States;X-APPLE-RADIUS=500;X-TITLE=156 Missile Ave:geo:-101.32449916146,48.41945534963
END:VEVENT
BEGIN:VEVENT
DTSTART;TZID=UTC:20260428T130000
DTEND;TZID=UTC:20260428T140000
DTSTAMP:20260424T152136
CREATED:20260205T142210Z
LAST-MODIFIED:20260224T195457Z
UID:10008785-1777381200-1777384800@5thforcesupport.com
SUMMARY:Federal Employment Basics 101
DESCRIPTION:Get your Federal Job search on track with this interactive workshop held on 28 April 2026 from 1:00PM – 2:00PM! \nOur introduction to USAJOBS will help you: \n• Navigate the federal hiring system\n• Create a profile on the USAJOBS website\n• Create an effective USAJOBS resume\n• And much more! \nOpen to Active Duty\, Retirees\, DoW/NAF/AAFES civilians\, and eligible family members. \nSign up by calling the M&FRC at 723-3950 or emailing 5fss.family.support@us.af.mil
URL:https://5thforcesupport.com/event/federal-employment-basics-101/
LOCATION:Military & Family Readiness Center\, 291 Peacekeeper PL\, Minot AFB\, ND\, 58704\, United States
CATEGORIES:Force Support,Military & Family Readiness Center
ATTACH;FMTTYPE=image/jpeg:https://5thforcesupport.com/wp-content/uploads/2026/02/04.28-Federal-Employment-Basics-101.jpg
GEO:48.426281549162;-101.32038653094
X-APPLE-STRUCTURED-LOCATION;VALUE=URI;X-ADDRESS=Military & Family Readiness Center 291 Peacekeeper PL Minot AFB ND 58704 United States;X-APPLE-RADIUS=500;X-TITLE=291 Peacekeeper PL:geo:-101.32038653094,48.426281549162
END:VEVENT
BEGIN:VEVENT
DTSTART;TZID=UTC:20260429T073000
DTEND;TZID=UTC:20260429T160000
DTSTAMP:20260424T152136
CREATED:20251107T174328Z
LAST-MODIFIED:20260403T161521Z
UID:10008922-1777447800-1777478400@5thforcesupport.com
SUMMARY:FTEC
DESCRIPTION:Held at the Professional Development Center. \nTo register\, visit: https://www.signupgenius.com/\nSearch for creator’s email: 5fss.fsdp.pdc@us.af.mil \nFor more details\, contact MSgt Patrick Grammel at 723-4854 or MSgt Morgan Fileccia at 723-1724
URL:https://5thforcesupport.com/event/ftec-2/2026-04-29/
LOCATION:Professional Development Center\, 340 Missile Ave\, Minot AFB\, ND\, 58704\, United States
CATEGORIES:Force Support,Professional Development Center
GEO:48.423015010103;-101.3318375643
X-APPLE-STRUCTURED-LOCATION;VALUE=URI;X-ADDRESS=Professional Development Center 340 Missile Ave Minot AFB ND 58704 United States;X-APPLE-RADIUS=500;X-TITLE=340 Missile Ave:geo:-101.3318375643,48.423015010103
END:VEVENT
BEGIN:VEVENT
DTSTART;TZID=UTC:20260429T090000
DTEND;TZID=UTC:20260429T103000
DTSTAMP:20260424T152136
CREATED:20260205T142756Z
LAST-MODIFIED:20260223T145716Z
UID:10008789-1777453200-1777458600@5thforcesupport.com
SUMMARY:Bundles for Babies
DESCRIPTION:Expecting a new addition to your family? You won’t want to miss this FREE class on 29 April 2026 from 9AM – 10:30AM at the Military & Family Readiness Center! \nHere’s what you can expect from attending the class:\n• Learn new parenting skills\n• Learn about support programs\n• Budget for your growing family\n• Network with other expectant parents\n• Receive a gift card from the Air Force Aid Society! \nThis class is open to all ranks and is not limited to a first pregnancy! Expectant moms should be in their 3rd Trimester. Sign-ups are due at least one day in advance. The Bundles for Babies class fulfills the mandatory MyVector Touch Point training. \nRegister no later than 12:00PM noon on 28 April 2026. \nFor more information\, call the Military & Family Readiness Center at 723-3950 or email 5fss.family.support@us.af.mil
URL:https://5thforcesupport.com/event/bundles-for-babies-6/
LOCATION:Military & Family Readiness Center\, 291 Peacekeeper PL\, Minot AFB\, ND\, 58704\, United States
CATEGORIES:Force Support,Military & Family Readiness Center
ATTACH;FMTTYPE=image/jpeg:https://5thforcesupport.com/wp-content/uploads/2026/02/04.29-Bundles-for-Babies.jpg
GEO:48.426281549162;-101.32038653094
X-APPLE-STRUCTURED-LOCATION;VALUE=URI;X-ADDRESS=Military & Family Readiness Center 291 Peacekeeper PL Minot AFB ND 58704 United States;X-APPLE-RADIUS=500;X-TITLE=291 Peacekeeper PL:geo:-101.32038653094,48.426281549162
END:VEVENT
BEGIN:VEVENT
DTSTART;TZID=UTC:20260429T103000
DTEND;TZID=UTC:20260429T113000
DTSTAMP:20260424T152136
CREATED:20260410T185602Z
LAST-MODIFIED:20260410T185602Z
UID:10009393-1777458600-1777462200@5thforcesupport.com
SUMMARY:Money Storytime
DESCRIPTION:Celebrate Financial Literacy Month with stories\, songs\, games\, and more on 29 April 2026 at 10:30AM inside the Minot AFB Library! \nFor details\, call 723-3344 or email mafblibrary@gmail.com \nSponsored by North Star Community Credit Union. No Federal endorsement of sponsor intended.
URL:https://5thforcesupport.com/event/money-storytime/
LOCATION:Library\, 156 Missile Ave\, Minot AFB\, ND\, 58704\, United States
CATEGORIES:Fun,Library
ATTACH;FMTTYPE=image/jpeg:https://5thforcesupport.com/wp-content/uploads/2026/04/04.29-Money-Storytime.jpg
GEO:48.41945534963;-101.32449916146
X-APPLE-STRUCTURED-LOCATION;VALUE=URI;X-ADDRESS=Library 156 Missile Ave Minot AFB ND 58704 United States;X-APPLE-RADIUS=500;X-TITLE=156 Missile Ave:geo:-101.32449916146,48.41945534963
END:VEVENT
BEGIN:VEVENT
DTSTART;TZID=UTC:20260430T073000
DTEND;TZID=UTC:20260430T160000
DTSTAMP:20260424T152136
CREATED:20251107T174328Z
LAST-MODIFIED:20260403T161521Z
UID:10008923-1777534200-1777564800@5thforcesupport.com
SUMMARY:FTEC
DESCRIPTION:Held at the Professional Development Center. \nTo register\, visit: https://www.signupgenius.com/\nSearch for creator’s email: 5fss.fsdp.pdc@us.af.mil \nFor more details\, contact MSgt Patrick Grammel at 723-4854 or MSgt Morgan Fileccia at 723-1724
URL:https://5thforcesupport.com/event/ftec-2/2026-04-30/
LOCATION:Professional Development Center\, 340 Missile Ave\, Minot AFB\, ND\, 58704\, United States
CATEGORIES:Force Support,Professional Development Center
GEO:48.423015010103;-101.3318375643
X-APPLE-STRUCTURED-LOCATION;VALUE=URI;X-ADDRESS=Professional Development Center 340 Missile Ave Minot AFB ND 58704 United States;X-APPLE-RADIUS=500;X-TITLE=340 Missile Ave:geo:-101.3318375643,48.423015010103
END:VEVENT
BEGIN:VEVENT
DTSTART;TZID=UTC:20260430T083000
DTEND;TZID=UTC:20260430T110000
DTSTAMP:20260424T152136
CREATED:20251029T171131Z
LAST-MODIFIED:20260413T135224Z
UID:10008756-1777537800-1777546800@5thforcesupport.com
SUMMARY:Pre-Separation Briefing
DESCRIPTION:For more information\, call the Military & Family Readiness Center at 723-3950 or email 5fss.family.support@us.af.mil
URL:https://5thforcesupport.com/event/pre-separation-briefing-3-2/2026-04-30/
LOCATION:Military & Family Readiness Center\, 291 Peacekeeper PL\, Minot AFB\, ND\, 58704\, United States
CATEGORIES:Force Support,Military & Family Readiness Center
GEO:48.426281549162;-101.32038653094
X-APPLE-STRUCTURED-LOCATION;VALUE=URI;X-ADDRESS=Military & Family Readiness Center 291 Peacekeeper PL Minot AFB ND 58704 United States;X-APPLE-RADIUS=500;X-TITLE=291 Peacekeeper PL:geo:-101.32038653094,48.426281549162
END:VEVENT
BEGIN:VEVENT
DTSTART;TZID=UTC:20260430T133000
DTEND;TZID=UTC:20260430T143000
DTSTAMP:20260424T152136
CREATED:20251211T212530Z
LAST-MODIFIED:20251211T212530Z
UID:10008082-1777555800-1777559400@5thforcesupport.com
SUMMARY:Tuition Assistance (TA) Brief
DESCRIPTION:Held at the Education Center\, Building 156\, Second Floor (above the Library). \nThis is the Mandatory Tuition Assistance Brief for all military personnel interested in using their educational benefits. \nFor details\, contact the Minot AFB Education Center at 723.2772 or email: minot.edcenter@us.af.mil
URL:https://5thforcesupport.com/event/tuition-assistance-ta-brief-5/2026-04-30/
LOCATION:Education Center\, 156 Missile Ave\, Minot AFB\, ND\, 58704\, United States
CATEGORIES:Education Center,Force Support
GEO:48.419453569522;-101.32445490501
X-APPLE-STRUCTURED-LOCATION;VALUE=URI;X-ADDRESS=Education Center 156 Missile Ave Minot AFB ND 58704 United States;X-APPLE-RADIUS=500;X-TITLE=156 Missile Ave:geo:-101.32445490501,48.419453569522
END:VEVENT
END:VCALENDAR