BEGIN:VCALENDAR
VERSION:2.0
PRODID:-//Minot AFB - ECPv6.15.20//NONSGML v1.0//EN
CALSCALE:GREGORIAN
METHOD:PUBLISH
X-WR-CALNAME:Minot AFB
X-ORIGINAL-URL:https://5thforcesupport.com
X-WR-CALDESC:Events for Minot AFB
REFRESH-INTERVAL;VALUE=DURATION:PT1H
X-Robots-Tag:noindex
X-PUBLISHED-TTL:PT1H
BEGIN:VTIMEZONE
TZID:UTC
BEGIN:STANDARD
TZOFFSETFROM:+0000
TZOFFSETTO:+0000
TZNAME:UTC
DTSTART:20250101T000000
END:STANDARD
END:VTIMEZONE
BEGIN:VEVENT
DTSTART;TZID=UTC:20260804T100000
DTEND;TZID=UTC:20260804T110000
DTSTAMP:20260425T011009
CREATED:20251211T212134Z
LAST-MODIFIED:20251211T212134Z
UID:10008046-1785837600-1785841200@5thforcesupport.com
SUMMARY:Tuition Assistance (TA) Brief
DESCRIPTION:Held at the Education Center\, Building 156\, Second Floor (above the Library). \nThis is the Mandatory Tuition Assistance Brief for all military personnel interested in using their educational benefits. \nFor details\, contact the Minot AFB Education Center at 723.2772 or email: minot.edcenter@us.af.mil
URL:https://5thforcesupport.com/event/tuition-assistance-ta-brief-3/2026-08-04/
LOCATION:Education Center\, 156 Missile Ave\, Minot AFB\, ND\, 58704\, United States
CATEGORIES:Education Center,Force Support
GEO:48.419453569522;-101.32445490501
X-APPLE-STRUCTURED-LOCATION;VALUE=URI;X-ADDRESS=Education Center 156 Missile Ave Minot AFB ND 58704 United States;X-APPLE-RADIUS=500;X-TITLE=156 Missile Ave:geo:-101.32445490501,48.419453569522
END:VEVENT
BEGIN:VEVENT
DTSTART;TZID=UTC:20260804T120000
DTEND;TZID=UTC:20260804T160000
DTSTAMP:20260425T011009
CREATED:20251204T195006Z
LAST-MODIFIED:20251204T195006Z
UID:10007588-1785844800-1785859200@5thforcesupport.com
SUMMARY:Elevate Your Relationship
DESCRIPTION:Don’t miss this opportunity to invest in your relationship\, connect with others\, and enjoy a financial reward on 4 & 5 August 2026 from 12:00PM – 4:00PM at the Sirocco Neighborhood Home! \nMilitary life comes with unique challenges that can complicate relationships. That’s why Military & Family Readiness\, in partnership with Air Force Aid Society (AFAS)\, is proud to offer Elevate—a skills-based program designed to help couples strengthen and sustain healthy relationships. \nABOUT THE PROGRAM\n• Classes are free\n• Open to all Department of Defense ID card holders in a committed relationship\n• Learn the 7-core skills and qualities for relationship success \nWHY PARTICIPATE?\n• Connect with other couples in a supportive environment\n• Take your relationship to the next level \nADDED BONUS – It Pays to Elevate Your Relationship!\nAir Force Aid Society will provide a $160 grant for Air Force and Space Force active-duty members who complete the classes \nFor details or to register\, call the Military & Family Readiness Center at 723-3950 or email 5fss.family.support@us.af.mil
URL:https://5thforcesupport.com/event/elevate-your-relationship-5/2026-08-04/
LOCATION:Sirocco Neighborhood Home Center\, 243 Sirocco Dr.\, Minot AFB\, ND\, 58704\, United States
CATEGORIES:Force Support,Military & Family Readiness Center
ATTACH;FMTTYPE=image/jpeg:https://5thforcesupport.com/wp-content/uploads/2025/12/08.04-Elevate-Your-Relationship.jpg
END:VEVENT
BEGIN:VEVENT
DTSTART;TZID=UTC:20260805T120000
DTEND;TZID=UTC:20260805T160000
DTSTAMP:20260425T011009
CREATED:20251204T195006Z
LAST-MODIFIED:20251204T195006Z
UID:10007589-1785931200-1785945600@5thforcesupport.com
SUMMARY:Elevate Your Relationship
DESCRIPTION:Don’t miss this opportunity to invest in your relationship\, connect with others\, and enjoy a financial reward on 4 & 5 August 2026 from 12:00PM – 4:00PM at the Sirocco Neighborhood Home! \nMilitary life comes with unique challenges that can complicate relationships. That’s why Military & Family Readiness\, in partnership with Air Force Aid Society (AFAS)\, is proud to offer Elevate—a skills-based program designed to help couples strengthen and sustain healthy relationships. \nABOUT THE PROGRAM\n• Classes are free\n• Open to all Department of Defense ID card holders in a committed relationship\n• Learn the 7-core skills and qualities for relationship success \nWHY PARTICIPATE?\n• Connect with other couples in a supportive environment\n• Take your relationship to the next level \nADDED BONUS – It Pays to Elevate Your Relationship!\nAir Force Aid Society will provide a $160 grant for Air Force and Space Force active-duty members who complete the classes \nFor details or to register\, call the Military & Family Readiness Center at 723-3950 or email 5fss.family.support@us.af.mil
URL:https://5thforcesupport.com/event/elevate-your-relationship-5/2026-08-05/
LOCATION:Sirocco Neighborhood Home Center\, 243 Sirocco Dr.\, Minot AFB\, ND\, 58704\, United States
CATEGORIES:Force Support,Military & Family Readiness Center
ATTACH;FMTTYPE=image/jpeg:https://5thforcesupport.com/wp-content/uploads/2025/12/08.04-Elevate-Your-Relationship.jpg
END:VEVENT
BEGIN:VEVENT
DTSTART;TZID=UTC:20260806T133000
DTEND;TZID=UTC:20260806T143000
DTSTAMP:20260425T011009
CREATED:20251211T212530Z
LAST-MODIFIED:20251211T212530Z
UID:10008096-1786023000-1786026600@5thforcesupport.com
SUMMARY:Tuition Assistance (TA) Brief
DESCRIPTION:Held at the Education Center\, Building 156\, Second Floor (above the Library). \nThis is the Mandatory Tuition Assistance Brief for all military personnel interested in using their educational benefits. \nFor details\, contact the Minot AFB Education Center at 723.2772 or email: minot.edcenter@us.af.mil
URL:https://5thforcesupport.com/event/tuition-assistance-ta-brief-5/2026-08-06/
LOCATION:Education Center\, 156 Missile Ave\, Minot AFB\, ND\, 58704\, United States
CATEGORIES:Education Center,Force Support
GEO:48.419453569522;-101.32445490501
X-APPLE-STRUCTURED-LOCATION;VALUE=URI;X-ADDRESS=Education Center 156 Missile Ave Minot AFB ND 58704 United States;X-APPLE-RADIUS=500;X-TITLE=156 Missile Ave:geo:-101.32445490501,48.419453569522
END:VEVENT
BEGIN:VEVENT
DTSTART;TZID=UTC:20260807T110000
DTEND;TZID=UTC:20260807T130000
DTSTAMP:20260425T011009
CREATED:20260306T164520Z
LAST-MODIFIED:20260310T160412Z
UID:10008930-1786100400-1786107600@5thforcesupport.com
SUMMARY:Back-to-School Brigade
DESCRIPTION:Celebrate back-to-school with our annual Operation Homefront Back-to-School Supplies Brigade on 7 August 2026 from 11:00AM – 1:00PM at the Youth Center! \nOpen to DEERS enrolled military dependent children who will be in Kindergarten – 12th grade for the 2026 – 2027 school year.  \nRegistration will open mid-June.  \nFor more details\, call the School Liaison Office at 723-1447
URL:https://5thforcesupport.com/event/back-to-school-brigade/
LOCATION:Youth Center\, 286 Peacekeeper Pl\, Minot AFB\, ND\, 58704\, United States
CATEGORIES:Family,Hot Events,School Liaison,Youth Center
ATTACH;FMTTYPE=image/jpeg:https://5thforcesupport.com/wp-content/uploads/2026/03/08.07-Back-To-School-Brigade-Save-the-Date.jpg
GEO:48.428723297808;-101.31986599058
X-APPLE-STRUCTURED-LOCATION;VALUE=URI;X-ADDRESS=Youth Center 286 Peacekeeper Pl Minot AFB ND 58704 United States;X-APPLE-RADIUS=500;X-TITLE=286 Peacekeeper Pl:geo:-101.31986599058,48.428723297808
END:VEVENT
BEGIN:VEVENT
DTSTART;TZID=UTC:20260811T100000
DTEND;TZID=UTC:20260811T110000
DTSTAMP:20260425T011009
CREATED:20251211T212134Z
LAST-MODIFIED:20251211T212134Z
UID:10008047-1786442400-1786446000@5thforcesupport.com
SUMMARY:Tuition Assistance (TA) Brief
DESCRIPTION:Held at the Education Center\, Building 156\, Second Floor (above the Library). \nThis is the Mandatory Tuition Assistance Brief for all military personnel interested in using their educational benefits. \nFor details\, contact the Minot AFB Education Center at 723.2772 or email: minot.edcenter@us.af.mil
URL:https://5thforcesupport.com/event/tuition-assistance-ta-brief-3/2026-08-11/
LOCATION:Education Center\, 156 Missile Ave\, Minot AFB\, ND\, 58704\, United States
CATEGORIES:Education Center,Force Support
GEO:48.419453569522;-101.32445490501
X-APPLE-STRUCTURED-LOCATION;VALUE=URI;X-ADDRESS=Education Center 156 Missile Ave Minot AFB ND 58704 United States;X-APPLE-RADIUS=500;X-TITLE=156 Missile Ave:geo:-101.32445490501,48.419453569522
END:VEVENT
BEGIN:VEVENT
DTSTART;TZID=UTC:20260813T133000
DTEND;TZID=UTC:20260813T143000
DTSTAMP:20260425T011009
CREATED:20251211T212530Z
LAST-MODIFIED:20251211T212530Z
UID:10008097-1786627800-1786631400@5thforcesupport.com
SUMMARY:Tuition Assistance (TA) Brief
DESCRIPTION:Held at the Education Center\, Building 156\, Second Floor (above the Library). \nThis is the Mandatory Tuition Assistance Brief for all military personnel interested in using their educational benefits. \nFor details\, contact the Minot AFB Education Center at 723.2772 or email: minot.edcenter@us.af.mil
URL:https://5thforcesupport.com/event/tuition-assistance-ta-brief-5/2026-08-13/
LOCATION:Education Center\, 156 Missile Ave\, Minot AFB\, ND\, 58704\, United States
CATEGORIES:Education Center,Force Support
GEO:48.419453569522;-101.32445490501
X-APPLE-STRUCTURED-LOCATION;VALUE=URI;X-ADDRESS=Education Center 156 Missile Ave Minot AFB ND 58704 United States;X-APPLE-RADIUS=500;X-TITLE=156 Missile Ave:geo:-101.32445490501,48.419453569522
END:VEVENT
BEGIN:VEVENT
DTSTART;VALUE=DATE:20260815
DTEND;VALUE=DATE:20260816
DTSTAMP:20260425T011009
CREATED:20260417T135124Z
LAST-MODIFIED:20260417T135124Z
UID:10009444-1786752000-1786838399@5thforcesupport.com
SUMMARY:Summer Reading Program Ends
DESCRIPTION:Plant a Seed\, Read! \nWin\, trading cards\, prizes\, and chances to win a grand prize by reaching reading goals and participating in activities! \nSummer Reading Program Dates:\nRegistration • 13 June 2026 – 15 August 2026\nKick-Off Party • 13 June 2026\nWrap-Up Party • 15 August 2026 \nThere are themed events and a variety of other programs throughout the summer! \nThere’s also a serious side to summer reading. Research shows that students who read recreationally out-perform those who don’t. \nOpen to ALL ages\, infants to adults! \nFor details\, call 723-3344 or email mafblibrary@gmail.com
URL:https://5thforcesupport.com/event/summer-reading-program-ends/
LOCATION:Library\, 156 Missile Ave\, Minot AFB\, ND\, 58704\, United States
CATEGORIES:Fun,Library
GEO:48.41945534963;-101.32449916146
X-APPLE-STRUCTURED-LOCATION;VALUE=URI;X-ADDRESS=Library 156 Missile Ave Minot AFB ND 58704 United States;X-APPLE-RADIUS=500;X-TITLE=156 Missile Ave:geo:-101.32449916146,48.41945534963
END:VEVENT
BEGIN:VEVENT
DTSTART;VALUE=DATE:20260815
DTEND;VALUE=DATE:20260816
DTSTAMP:20260425T011009
CREATED:20260417T135308Z
LAST-MODIFIED:20260417T135308Z
UID:10009446-1786752000-1786838399@5thforcesupport.com
SUMMARY:Summer Reading Program Squadron Contest Ends
DESCRIPTION:Log your reading hours and support your squadron! \nSign up: 13 June 2026 – 15 August 2026\nLog your reading: 13 June 2026 – 15 August 2026 \nParticipants who log their reading will receive\, trading cards\, prizes and chances to win bigger prizes! \nThe squadron with the most active duty members participating in the Minot AFB Library’s Summer Reading Program will receive a certificate and the right to display our trophy until next year! \nFor details\, call 723-3344 or email mafblibrary@gmail.com
URL:https://5thforcesupport.com/event/summer-reading-program-squadron-contest-ends/
LOCATION:Library\, 156 Missile Ave\, Minot AFB\, ND\, 58704\, United States
CATEGORIES:Fun,Library
GEO:48.41945534963;-101.32449916146
X-APPLE-STRUCTURED-LOCATION;VALUE=URI;X-ADDRESS=Library 156 Missile Ave Minot AFB ND 58704 United States;X-APPLE-RADIUS=500;X-TITLE=156 Missile Ave:geo:-101.32449916146,48.41945534963
END:VEVENT
BEGIN:VEVENT
DTSTART;VALUE=DATE:20260815
DTEND;VALUE=DATE:20260816
DTSTAMP:20260425T011009
CREATED:20260417T135940Z
LAST-MODIFIED:20260417T135940Z
UID:10009450-1786752000-1786838399@5thforcesupport.com
SUMMARY:Minot AFB 1980 Murder Mystery Game Ends
DESCRIPTION:Pick up a map and starting clues at the Minot AFB Library. Use the map to find the rest of the clues elsewhere on base\, solve the mystery\, and win a prize! \nAvailable from 13 June 2026 – 15 August 2026 \nPrefer reading mysteries to solving them? The game works as a cozy-ish mystery story\, too\, with different pages at different locations. \nFor details\, call 723-3344 or email mafblibrary@gmail.com
URL:https://5thforcesupport.com/event/minot-afb-1980-murder-mystery-game-ends/
LOCATION:Library\, 156 Missile Ave\, Minot AFB\, ND\, 58704\, United States
CATEGORIES:Fun,Library
GEO:48.41945534963;-101.32449916146
X-APPLE-STRUCTURED-LOCATION;VALUE=URI;X-ADDRESS=Library 156 Missile Ave Minot AFB ND 58704 United States;X-APPLE-RADIUS=500;X-TITLE=156 Missile Ave:geo:-101.32449916146,48.41945534963
END:VEVENT
BEGIN:VEVENT
DTSTART;TZID=UTC:20260818T100000
DTEND;TZID=UTC:20260818T110000
DTSTAMP:20260425T011009
CREATED:20251211T212134Z
LAST-MODIFIED:20251211T212134Z
UID:10008048-1787047200-1787050800@5thforcesupport.com
SUMMARY:Tuition Assistance (TA) Brief
DESCRIPTION:Held at the Education Center\, Building 156\, Second Floor (above the Library). \nThis is the Mandatory Tuition Assistance Brief for all military personnel interested in using their educational benefits. \nFor details\, contact the Minot AFB Education Center at 723.2772 or email: minot.edcenter@us.af.mil
URL:https://5thforcesupport.com/event/tuition-assistance-ta-brief-3/2026-08-18/
LOCATION:Education Center\, 156 Missile Ave\, Minot AFB\, ND\, 58704\, United States
CATEGORIES:Education Center,Force Support
GEO:48.419453569522;-101.32445490501
X-APPLE-STRUCTURED-LOCATION;VALUE=URI;X-ADDRESS=Education Center 156 Missile Ave Minot AFB ND 58704 United States;X-APPLE-RADIUS=500;X-TITLE=156 Missile Ave:geo:-101.32445490501,48.419453569522
END:VEVENT
BEGIN:VEVENT
DTSTART;TZID=UTC:20260820T133000
DTEND;TZID=UTC:20260820T143000
DTSTAMP:20260425T011009
CREATED:20251211T212530Z
LAST-MODIFIED:20251211T212530Z
UID:10008098-1787232600-1787236200@5thforcesupport.com
SUMMARY:Tuition Assistance (TA) Brief
DESCRIPTION:Held at the Education Center\, Building 156\, Second Floor (above the Library). \nThis is the Mandatory Tuition Assistance Brief for all military personnel interested in using their educational benefits. \nFor details\, contact the Minot AFB Education Center at 723.2772 or email: minot.edcenter@us.af.mil
URL:https://5thforcesupport.com/event/tuition-assistance-ta-brief-5/2026-08-20/
LOCATION:Education Center\, 156 Missile Ave\, Minot AFB\, ND\, 58704\, United States
CATEGORIES:Education Center,Force Support
GEO:48.419453569522;-101.32445490501
X-APPLE-STRUCTURED-LOCATION;VALUE=URI;X-ADDRESS=Education Center 156 Missile Ave Minot AFB ND 58704 United States;X-APPLE-RADIUS=500;X-TITLE=156 Missile Ave:geo:-101.32445490501,48.419453569522
END:VEVENT
BEGIN:VEVENT
DTSTART;TZID=UTC:20260825T100000
DTEND;TZID=UTC:20260825T110000
DTSTAMP:20260425T011009
CREATED:20251211T212134Z
LAST-MODIFIED:20251211T212134Z
UID:10008049-1787652000-1787655600@5thforcesupport.com
SUMMARY:Tuition Assistance (TA) Brief
DESCRIPTION:Held at the Education Center\, Building 156\, Second Floor (above the Library). \nThis is the Mandatory Tuition Assistance Brief for all military personnel interested in using their educational benefits. \nFor details\, contact the Minot AFB Education Center at 723.2772 or email: minot.edcenter@us.af.mil
URL:https://5thforcesupport.com/event/tuition-assistance-ta-brief-3/2026-08-25/
LOCATION:Education Center\, 156 Missile Ave\, Minot AFB\, ND\, 58704\, United States
CATEGORIES:Education Center,Force Support
GEO:48.419453569522;-101.32445490501
X-APPLE-STRUCTURED-LOCATION;VALUE=URI;X-ADDRESS=Education Center 156 Missile Ave Minot AFB ND 58704 United States;X-APPLE-RADIUS=500;X-TITLE=156 Missile Ave:geo:-101.32445490501,48.419453569522
END:VEVENT
BEGIN:VEVENT
DTSTART;TZID=UTC:20260827T133000
DTEND;TZID=UTC:20260827T143000
DTSTAMP:20260425T011009
CREATED:20251211T212530Z
LAST-MODIFIED:20251211T212530Z
UID:10008099-1787837400-1787841000@5thforcesupport.com
SUMMARY:Tuition Assistance (TA) Brief
DESCRIPTION:Held at the Education Center\, Building 156\, Second Floor (above the Library). \nThis is the Mandatory Tuition Assistance Brief for all military personnel interested in using their educational benefits. \nFor details\, contact the Minot AFB Education Center at 723.2772 or email: minot.edcenter@us.af.mil
URL:https://5thforcesupport.com/event/tuition-assistance-ta-brief-5/2026-08-27/
LOCATION:Education Center\, 156 Missile Ave\, Minot AFB\, ND\, 58704\, United States
CATEGORIES:Education Center,Force Support
GEO:48.419453569522;-101.32445490501
X-APPLE-STRUCTURED-LOCATION;VALUE=URI;X-ADDRESS=Education Center 156 Missile Ave Minot AFB ND 58704 United States;X-APPLE-RADIUS=500;X-TITLE=156 Missile Ave:geo:-101.32445490501,48.419453569522
END:VEVENT
END:VCALENDAR